BEGIN:VCALENDAR
PRODID:NingEventWidget-v1
VERSION:2.0
METHOD:PUBLISH
BEGIN:VTIMEZONE
TZID:Europe/London
X-LIC-LOCATION:Europe/London
BEGIN:DAYLIGHT
TZOFFSETFROM:+0000
TZOFFSETTO:+0100
TZNAME:BST
DTSTART:19700329T010000
RRULE:FREQ=YEARLY;BYMONTH=3;BYDAY=-1SU
END:DAYLIGHT
BEGIN:STANDARD
TZOFFSETFROM:+0100
TZOFFSETTO:+0000
TZNAME:GMT
DTSTART:19701025T020000
RRULE:FREQ=YEARLY;BYMONTH=10;BYDAY=-1SU
END:STANDARD
END:VTIMEZONE
BEGIN:VEVENT
UID:844301:Event:1634667
DTSTAMP:20260424T012017Z
SUMMARY:Rabbits Out Of The Hat by Norvil & Josephine Magic
DESCRIPTION:★★★★ “Marvellous magic in a show full of surpris
 es\" — The Stage\r\n After their last sell-out show at Jacksons Lane
  and their 5-star studded season at Edinburgh Fringe, Norvil & Josephi
 ne make their long anticipated return with Rabbits Out of the Hat a wh
 imsical Vaudevillian comedy musical magic show, fun for all ages.\n\nF
 or more information visit https://harringayonline.com/events/rabbits-o
 ut-of-the-hat-by-norvil-amp-josephine-magic
DTSTART;TZID=Europe/London:20260302T100000
DTEND;TZID=Europe/London:20260302T140000
CATEGORIES:theatre, family
LOCATION:Jacksons Lane
WEBSITE:https://www.jacksonslane.org.uk/events/rabbit-out-of-the-hat/
URL:https://www.jacksonslane.org.uk/events/rabbit-out-of-the-hat/
CONTACT:02083405226
ORGANIZER;CN="Jacksons Lane":https://harringayonline.com/profile/Jacks
 onsLane899
ATTACH;FMTTYPE="image/jpeg":https://storage.ning.com/topology/rest/1.0
 /file/get/31095030459?profile=original
ATTENDEE;ROLE=REQ-PARTICIPANT;PARTSTAT=ACCEPTED;RSVP=TRUE;CN="Jacksons
  Lane":https://harringayonline.com/profile/JacksonsLane899
END:VEVENT
END:VCALENDAR
