BEGIN:VCALENDAR
PRODID:NingEventWidget-v1
VERSION:2.0
METHOD:PUBLISH
BEGIN:VTIMEZONE
TZID:Europe/London
X-LIC-LOCATION:Europe/London
BEGIN:DAYLIGHT
TZOFFSETFROM:+0000
TZOFFSETTO:+0100
TZNAME:BST
DTSTART:19700329T010000
RRULE:FREQ=YEARLY;BYMONTH=3;BYDAY=-1SU
END:DAYLIGHT
BEGIN:STANDARD
TZOFFSETFROM:+0100
TZOFFSETTO:+0000
TZNAME:GMT
DTSTART:19701025T020000
RRULE:FREQ=YEARLY;BYMONTH=10;BYDAY=-1SU
END:STANDARD
END:VTIMEZONE
BEGIN:VEVENT
UID:844301:Event:1513061
DTSTAMP:20260424T032446Z
SUMMARY:Pumpkin carving at Edible Landscapes London
DESCRIPTION:\n\nFor more information visit https://harringayonline.com
 /events/pumpkin-carving-at-edible-landscapes-london
DTSTART;TZID=Europe/London:20221027T220000
DTEND;TZID=Europe/London:20221028T160000
CATEGORIES:pumpkin, carving, workshop
LOCATION:Edible Landscapes London- inside Finsbury Parl
WEBSITE:http://Www.ediblelandscapeslondon.org.uk
URL:http://Www.ediblelandscapeslondon.org.uk
CONTACT:
ORGANIZER;CN="Bethany Anderson- ELL":https://harringayonline.com/profi
 le/BethanyAnderson
ATTACH;FMTTYPE="image/jpeg":https://storage.ning.com/topology/rest/1.0
 /file/get/10851368664?profile=original
ATTENDEE;ROLE=REQ-PARTICIPANT;PARTSTAT=ACCEPTED;RSVP=TRUE;CN="Bethany 
 Anderson- ELL":https://harringayonline.com/profile/BethanyAnderson
END:VEVENT
END:VCALENDAR
