BEGIN:VCALENDAR
PRODID:NingEventWidget-v1
VERSION:2.0
METHOD:PUBLISH
BEGIN:VTIMEZONE
TZID:Europe/London
X-LIC-LOCATION:Europe/London
BEGIN:DAYLIGHT
TZOFFSETFROM:+0000
TZOFFSETTO:+0100
TZNAME:BST
DTSTART:19700329T010000
RRULE:FREQ=YEARLY;BYMONTH=3;BYDAY=-1SU
END:DAYLIGHT
BEGIN:STANDARD
TZOFFSETFROM:+0100
TZOFFSETTO:+0000
TZNAME:GMT
DTSTART:19701025T020000
RRULE:FREQ=YEARLY;BYMONTH=10;BYDAY=-1SU
END:STANDARD
END:VTIMEZONE
BEGIN:VEVENT
UID:844301:Event:1501864
DTSTAMP:20260422T190123Z
SUMMARY:Prioritise Your Writing with Alison Chandler
DESCRIPTION:To produce a full manuscript – whether it’s a novel or
  novella, a memoir, biography or a collection of stories – you need 
 a love of writing, a willingness to grow as a writer and a lot of hard
  work. Practicing all three in the company of an encouraging, supporti
 ve group makes the whole experience a lot more productive and a lot mo
 re fun!\nOur classes are small and each session is bespoke, tailored t
 o participants’ specific goals. We workshop our words, learning as m
 uch from our close reading of others as we do from receiving feedback 
 ourselves, and discuss all aspects of writing craft.\nIf you’re read
 y to take a leap forward with your project in great company, we’d lo
 ve to hear from you. And if you’re a regular, you know you’re alwa
 ys welcome back to take your work to the next stage.\nZoom delivery. C
 ost £140.\nAutumn One: Mornings Wednesdays 10.30am-1pm; Sept 14, 21, 
 28, Oct 5, 12, 19.\nAutumn Two: Mornings Wednesdays 10.30am-1pm; Nov 9
 , 16, 23, 30, Dec 7, 14.\n\nFor more information visit https://harring
 ayonline.com/events/prioritise-your-writing-with-alison-chandler-3
DTSTART;TZID=Europe/London:20220914T101500
DTEND;TZID=Europe/London:20220914T130000
CATEGORIES:"prioritise your writing", "finish that novel", "advanced c
 reative writing", "structure your novel"
LOCATION:Online via Zoom for writingroom.org
WEBSITE:https://www.writingroom.org.uk/courses/prioritise-your-writing
URL:https://www.writingroom.org.uk/courses/prioritise-your-writing
CONTACT:
ORGANIZER:Carmel for Writing Room
ATTACH;FMTTYPE="image/jpeg":https://storage.ning.com/topology/rest/1.0
 /file/get/10752395872?profile=original
ATTENDEE;ROLE=REQ-PARTICIPANT;PARTSTAT=ACCEPTED;RSVP=TRUE;CN=Carmel:ht
 tps://harringayonline.com/profile/Carmel
END:VEVENT
END:VCALENDAR
