BEGIN:VCALENDAR
PRODID:NingEventWidget-v1
VERSION:2.0
METHOD:PUBLISH
BEGIN:VTIMEZONE
TZID:Europe/London
X-LIC-LOCATION:Europe/London
BEGIN:DAYLIGHT
TZOFFSETFROM:+0000
TZOFFSETTO:+0100
TZNAME:BST
DTSTART:19700329T010000
RRULE:FREQ=YEARLY;BYMONTH=3;BYDAY=-1SU
END:DAYLIGHT
BEGIN:STANDARD
TZOFFSETFROM:+0100
TZOFFSETTO:+0000
TZNAME:GMT
DTSTART:19701025T020000
RRULE:FREQ=YEARLY;BYMONTH=10;BYDAY=-1SU
END:STANDARD
END:VTIMEZONE
BEGIN:VEVENT
UID:844301:Event:1545883
DTSTAMP:20260422T181733Z
SUMMARY:TODAY! Portraits in a pandemic:  Opening event for exhibition 
 - Poems and Portraits
DESCRIPTION:Helen Marsden in conversation about her project Portraits 
 In A Pandemic at Stroud Green and Harringay Library plus poet Simon Ri
 chey reading new work about photography\r\nFree and open to all\r\nExh
 ibition opens 2nd August until 2nd September\r\n\n\nFor more informati
 on visit https://harringayonline.com/events/portraits-in-a-pandemic-op
 ening-event-poems-and-portraits
DTSTART;TZID=Europe/London:20230807T173000
DTEND;TZID=Europe/London:20230807T183000
CATEGORIES:photography, exhibition, poetry, art, "free talk"
LOCATION:Stroud Green and Harringay Library
WEBSITE:https://www.facebook.com/StroudGreenandHarringayLibrary/
URL:https://www.facebook.com/StroudGreenandHarringayLibrary/
CONTACT:
ORGANIZER;CN=Liz:https://harringayonline.com/profile/Liz
ATTACH;FMTTYPE="image/jpeg":https://storage.ning.com/topology/rest/1.0
 /file/get/12161253266?profile=original
END:VEVENT
END:VCALENDAR
