BEGIN:VCALENDAR
PRODID:NingEventWidget-v1
VERSION:2.0
METHOD:PUBLISH
BEGIN:VTIMEZONE
TZID:Europe/London
X-LIC-LOCATION:Europe/London
BEGIN:DAYLIGHT
TZOFFSETFROM:+0000
TZOFFSETTO:+0100
TZNAME:BST
DTSTART:19700329T010000
RRULE:FREQ=YEARLY;BYMONTH=3;BYDAY=-1SU
END:DAYLIGHT
BEGIN:STANDARD
TZOFFSETFROM:+0100
TZOFFSETTO:+0000
TZNAME:GMT
DTSTART:19701025T020000
RRULE:FREQ=YEARLY;BYMONTH=10;BYDAY=-1SU
END:STANDARD
END:VTIMEZONE
BEGIN:VEVENT
UID:844301:Event:1521319
DTSTAMP:20260422T022456Z
SUMMARY:Pond Life Annual Review (Online Event)
DESCRIPTION:**This event will be held online! Joining instructions wil
 l be sent out nearer to the event **\nWe did it, an entire year of wil
 dlife surveying!\n- Join us for an online recap of the year!\n- We wil
 l look at the results of all the invertebrate and pond surveys we did 
 in 2022 including bees, butterflies, dragonflies, snails and more.\n- 
 We will refresh our memories on ID skills and species knowledge.\n\nCo
 ntact Info:\nThe session will be run by Anna and Izzy.\nTelephone: Ann
 a (07483 045 734) and Izzy (07870678571).\n\n\n\n\n\n\nFor more inform
 ation visit https://harringayonline.com/events/pond-life-annual-review
 -online-event
DTSTART;TZID=Europe/London:20230106T111500
DTEND;TZID=Europe/London:20230106T120000
CATEGORIES:united, kingdom, eventsgreater, london, to, do, in, londonl
 ondon, classeslondon, charities, "&amp", causes, "classes#nature#birds
 #wildlife#london#volunteering#tottenham#surveying#london_events"
LOCATION:ONLINE EVENT
WEBSITE:https://www.tcv.org.uk/london/haringey/thepaddock/
URL:https://www.tcv.org.uk/london/haringey/thepaddock/
CONTACT:07483 045 734
ORGANIZER;CN="TCV - The Paddock":https://harringayonline.com/profile/T
 hePaddock
ATTACH;FMTTYPE="image/jpeg":
ATTENDEE;ROLE=REQ-PARTICIPANT;PARTSTAT=ACCEPTED;RSVP=TRUE;CN="TCV - Th
 e Paddock":https://harringayonline.com/profile/ThePaddock
END:VEVENT
END:VCALENDAR
