BEGIN:VCALENDAR
PRODID:NingEventWidget-v1
VERSION:2.0
METHOD:PUBLISH
BEGIN:VTIMEZONE
TZID:Europe/London
X-LIC-LOCATION:Europe/London
BEGIN:DAYLIGHT
TZOFFSETFROM:+0000
TZOFFSETTO:+0100
TZNAME:BST
DTSTART:19700329T010000
RRULE:FREQ=YEARLY;BYMONTH=3;BYDAY=-1SU
END:DAYLIGHT
BEGIN:STANDARD
TZOFFSETFROM:+0100
TZOFFSETTO:+0000
TZNAME:GMT
DTSTART:19701025T020000
RRULE:FREQ=YEARLY;BYMONTH=10;BYDAY=-1SU
END:STANDARD
END:VTIMEZONE
BEGIN:VEVENT
UID:844301:Event:1617759
DTSTAMP:20260423T041323Z
SUMMARY:Poetry and Poppadums with Edward Tripp
DESCRIPTION:\nWe invite you to a side-splitting evening of comedy and 
 musings in the warm & welcoming Karamel!\nEDWARD TRIPP *On tour \"Utte
 rly unexpectable and very moreish\" - *Kate Copstick (The Scotsman) \"
 Absurd and hysterical, he had the audience in stitches\" - Razz Magazi
 ne\nWith Special Guests\nLAURIE BOLGER ' A true gem of the poetic circ
 uit Reading from latest collection'-''If I could jump in her poems I w
 ould' - Hollie McNish\nALAN WHITE 'Humerous & incisive, wiith a poetry
  palette rich in detail.\nHosted by Paul Lyalls 'Always charismatic'- 
 Time Out Magazine\nDoors open at 6.30pm (for dining - see below).\nSho
 w starts at 8pm.\nSuitable for mature 14s and older.\nTickets £10 can
  be bought from www.musicglue.com/karamel Booking is advised to avoid 
 disappointment.\nDining (optional) in the Karamel restaurant from 6.30
 pm-8pm. Please book a table by emailing karamel8775@gmail.com with you
 r group size and arrival time.\nKaramel is a vegan establishment at 4 
 Coburg Road, London N22 6UJ. (10 mins walk Wood Green tube, free parki
 ng outside from 6.30pm).\nTickets £10\n\nFor more information visit h
 ttps://harringayonline.com/events/poetry-and-poppadums-with-edward-tri
 pp
DTSTART;TZID=Europe/London:20250926T190000
DTEND;TZID=Europe/London:20250926T230000
CATEGORIES:poetry, live-show, vegan-venue, vegan-food, comedy
LOCATION:karamel, 4 Coburg Road, Wood Green, London N22 6UJ
WEBSITE:https://www.musicglue.com/karamel/events/2025-09-26-poetry-and
 -poppadums-with-edward-tripp-karamel
URL:https://www.musicglue.com/karamel/events/2025-09-26-poetry-and-pop
 padums-with-edward-tripp-karamel
CONTACT:
ORGANIZER;CN="Collage Arts":https://harringayonline.com/profile/Chocol
 ateFactory
ATTACH;FMTTYPE="image/jpeg":https://storage.ning.com/topology/rest/1.0
 /file/get/13703439855?profile=original
ATTENDEE;ROLE=REQ-PARTICIPANT;PARTSTAT=ACCEPTED;RSVP=TRUE;CN="Collage 
 Arts":https://harringayonline.com/profile/ChocolateFactory
END:VEVENT
END:VCALENDAR
