BEGIN:VCALENDAR
PRODID:NingEventWidget-v1
VERSION:2.0
METHOD:PUBLISH
BEGIN:VTIMEZONE
TZID:Europe/London
X-LIC-LOCATION:Europe/London
BEGIN:DAYLIGHT
TZOFFSETFROM:+0000
TZOFFSETTO:+0100
TZNAME:BST
DTSTART:19700329T010000
RRULE:FREQ=YEARLY;BYMONTH=3;BYDAY=-1SU
END:DAYLIGHT
BEGIN:STANDARD
TZOFFSETFROM:+0100
TZOFFSETTO:+0000
TZNAME:GMT
DTSTART:19701025T020000
RRULE:FREQ=YEARLY;BYMONTH=10;BYDAY=-1SU
END:STANDARD
END:VTIMEZONE
BEGIN:VEVENT
UID:844301:Event:1635629
DTSTAMP:20260424T183351Z
SUMMARY:Poetry &amp; Poppadums with Murray Lachlan Young
DESCRIPTION:We invite you to a side-splitting evening of comedy and mu
 sings in the warm & welcoming Karamel!\nFeaturing...\nMurray Lachlan Y
 oung\n‘A hybrid mix of hilarious stand-up Verse & flamboyant, punchy
  wit & emphatic humour -The Arts Dispatch\nWith Special Guests\nPAUL C
 REE 'An engaging story-teller. Delivering poetry punctuated with the 
 unexpected rhymes of rap' – The Londonist\nSkye Lilly A 'rising lyr
 ical star', current One Mic Stand Slam champion. Blends humour & hard 
 truths & how! Hosted by Paul Lyalls 'Always charismatic'- Time Out 
 Magazine\nDoors open at 6.30pm (for dining - see below).\nShow starts 
 at 8pm.\nSuitable for mature 14s and older.\nDining (optional) in the 
 Karamel restaurant from 7pm-9.30pm. Please book a table by emailing k
 aramel8775@gmail.com with your group size and arrival time.\nKaramel 
 is a vegan establishment at 4 Coburg Road, London N22 6UJ. (10 mins wa
 lk Wood Green tube, free parking outside from 6.30pm).\n\nFor more inf
 ormation visit https://harringayonline.com/events/poetry-amp-poppadums
 -with-murray-lachlan-young
DTSTART;TZID=Europe/London:20260327T190000
DTEND;TZID=Europe/London:20260327T223000
CATEGORIES:live, comedy, poetry, vegan, food
LOCATION:Karamel - 4 Coburg Road, London N22 6UJ.
WEBSITE:https://www.musicglue.com/karamel
URL:https://www.musicglue.com/karamel
CONTACT:02080900071
ORGANIZER;CN="Collage Arts":https://harringayonline.com/profile/Chocol
 ateFactory
ATTACH;FMTTYPE="image/jpeg":
ATTENDEE;ROLE=REQ-PARTICIPANT;PARTSTAT=ACCEPTED;RSVP=TRUE;CN="Collage 
 Arts":https://harringayonline.com/profile/ChocolateFactory
END:VEVENT
END:VCALENDAR
