BEGIN:VCALENDAR
PRODID:NingEventWidget-v1
VERSION:2.0
METHOD:PUBLISH
BEGIN:VTIMEZONE
TZID:Europe/London
X-LIC-LOCATION:Europe/London
BEGIN:DAYLIGHT
TZOFFSETFROM:+0000
TZOFFSETTO:+0100
TZNAME:BST
DTSTART:19700329T010000
RRULE:FREQ=YEARLY;BYMONTH=3;BYDAY=-1SU
END:DAYLIGHT
BEGIN:STANDARD
TZOFFSETFROM:+0100
TZOFFSETTO:+0000
TZNAME:GMT
DTSTART:19701025T020000
RRULE:FREQ=YEARLY;BYMONTH=10;BYDAY=-1SU
END:STANDARD
END:VTIMEZONE
BEGIN:VEVENT
UID:844301:Event:1573044
DTSTAMP:20260424T112804Z
SUMMARY:Pinhole photography for wellbeing
DESCRIPTION:Join Pinhole London to explore how pinhole photography can
  boost your mood and creativity in a fun and relaxed atmosphere!\r\nFr
 ee, but booking required\n\nFor more information visit https://harring
 ayonline.com/events/pinhole-photography-for-wellbeing
DTSTART;TZID=Europe/London:20240521T120000
DTEND;TZID=Europe/London:20240521T140000
CATEGORIES:photography
LOCATION:Fore Street Library (Living Room Library)
WEBSITE:https://www.eventbrite.co.uk/e/pinhole-photography-for-wellbei
 ng-11-tickets-884095652897?utm-campaign=social&amp;utm-content=attende
 eshare&amp;utm-medium=discovery&amp;utm-term=listing&amp;utm-source=cp
 &amp;aff=ebdsshcopyurl
URL:https://www.eventbrite.co.uk/e/pinhole-photography-for-wellbeing-1
 1-tickets-884095652897?utm-campaign=social&amp;utm-content=attendeesha
 re&amp;utm-medium=discovery&amp;utm-term=listing&amp;utm-source=cp&amp
 ;aff=ebdsshcopyurl
CONTACT:
ORGANIZER;CN="HoL Site Admin":https://harringayonline.com/profile/Site
 Admin
ATTACH;FMTTYPE="image/jpeg":https://storage.ning.com/topology/rest/1.0
 /file/get/12544238700?profile=original
ATTENDEE;ROLE=REQ-PARTICIPANT;PARTSTAT=ACCEPTED;RSVP=TRUE;CN="HoL Site
  Admin":https://harringayonline.com/profile/SiteAdmin
END:VEVENT
END:VCALENDAR
