BEGIN:VCALENDAR
PRODID:NingEventWidget-v1
VERSION:2.0
METHOD:PUBLISH
BEGIN:VTIMEZONE
TZID:Europe/London
X-LIC-LOCATION:Europe/London
BEGIN:DAYLIGHT
TZOFFSETFROM:+0000
TZOFFSETTO:+0100
TZNAME:BST
DTSTART:19700329T010000
RRULE:FREQ=YEARLY;BYMONTH=3;BYDAY=-1SU
END:DAYLIGHT
BEGIN:STANDARD
TZOFFSETFROM:+0100
TZOFFSETTO:+0000
TZNAME:GMT
DTSTART:19701025T020000
RRULE:FREQ=YEARLY;BYMONTH=10;BYDAY=-1SU
END:STANDARD
END:VTIMEZONE
BEGIN:VEVENT
UID:844301:Event:1632571
DTSTAMP:20260423T173455Z
SUMMARY:Periscopi Invertit
DESCRIPTION:Periscopi Invertit blend Catalan folk tunes with funk, jaz
 z, and Latin arrangements, enriched by Mediterranean sounds and groove
 s. Their debut album, “Amèlia”, was released by Crea Music on 31 
 October 2025 and officially launched at the Toulouse Lautrec Jazz Club
  on 6 November 2025.\nTheir music has been broadcast on radio stations
  including BBC London Radio (Robert Elms interview) , Mi-Soul, Solar R
 adio, Soho Radio, Soul Beat, Totally Wired, Resonance FM, Point Blank 
 FM, CKMS Radio, iCat Radio, and Ràdio Arenys, among others. The band 
 has also performed at venues such as The Jago, Orleans Bar, The Old Ha
 ll at Lincoln’s Inn, Waterloo Creative Studios, The Mildmay Club, Up
 stairs at the Ritzy, The Post Bar, Folklore (Hoxton), and Jam in a Jar
 .\n\nFor more information visit https://harringayonline.com/events/per
 iscopi-invertit-1
DTSTART;TZID=Europe/London:20260213T200000
DTEND;TZID=Europe/London:20260214T020000
CATEGORIES:music, "live music", cocktails
LOCATION:Jam in a Jar
WEBSITE:https://jaminajarbar.co.uk
URL:https://jaminajarbar.co.uk
CONTACT:
ORGANIZER;CN="Jam in a Jar":https://harringayonline.com/profile/Jamina
 Jar
ATTACH;FMTTYPE="image/jpeg":https://storage.ning.com/topology/rest/1.0
 /file/get/31082548458?profile=original
ATTENDEE;ROLE=REQ-PARTICIPANT;PARTSTAT=ACCEPTED;RSVP=TRUE;CN="Jam in a
  Jar":https://harringayonline.com/profile/JaminaJar
END:VEVENT
END:VCALENDAR
