BEGIN:VCALENDAR
PRODID:NingEventWidget-v1
VERSION:2.0
METHOD:PUBLISH
BEGIN:VTIMEZONE
TZID:Europe/London
X-LIC-LOCATION:Europe/London
BEGIN:DAYLIGHT
TZOFFSETFROM:+0000
TZOFFSETTO:+0100
TZNAME:BST
DTSTART:19700329T010000
RRULE:FREQ=YEARLY;BYMONTH=3;BYDAY=-1SU
END:DAYLIGHT
BEGIN:STANDARD
TZOFFSETFROM:+0100
TZOFFSETTO:+0000
TZNAME:GMT
DTSTART:19701025T020000
RRULE:FREQ=YEARLY;BYMONTH=10;BYDAY=-1SU
END:STANDARD
END:VTIMEZONE
BEGIN:VEVENT
UID:844301:Event:1637107
DTSTAMP:20260424T043629Z
SUMMARY:PEOPLE'S EMERGENCY BRIEFING: free community film screening &am
 p; discussion
DESCRIPTION:What’s happening with climate and nature, and what does
  it mean for everyday life in the UK?\n\nJoin us for a screening of th
 e People’s Emergency Briefing - an eye-opening film bringing toget
 her nine leading UK scientists and experts with the latest evidence an
 d why it matters for Extreme weather, Food security, Health, Cost of 
 living … and more.\nThe film is based on the National Emergency Br
 iefing in Westminster (featured by ITV, Channel 4 and The Times) with
  appearances from Chris Packham, Deborah Meaden, and a range of voice
 s from across the UK.\nAfter the film there will be an open discussio
 n about what it means for our community and what we can do locally.\n
 Seats are free but limited, so please book in advance here.\nFor ages 
 16+ | refreshments available\n\n\nFor more information visit https://h
 arringayonline.com/events/people-s-emergency-briefing-free-community-f
 ilm-screening-amp
DTSTART;TZID=Europe/London:20260514T193000
DTEND;TZID=Europe/London:20260514T210000
CATEGORIES:"free film screening", "people's emergency briefing"
LOCATION:Muswell Hill Methodist Church , 28, Pages Lane N10 1PP
WEBSITE:https://wegottickets.com/f/17312/
URL:https://wegottickets.com/f/17312/
CONTACT:
ORGANIZER;CN="Lisa Jones":https://harringayonline.com/profile/LisaJone
 s344
ATTACH;FMTTYPE="image/jpeg":https://storage.ning.com/topology/rest/1.0
 /file/get/31125798692?profile=original
ATTENDEE;ROLE=REQ-PARTICIPANT;PARTSTAT=ACCEPTED;RSVP=TRUE;CN="Lisa Jon
 es":https://harringayonline.com/profile/LisaJones344
END:VEVENT
END:VCALENDAR
