BEGIN:VCALENDAR
PRODID:NingEventWidget-v1
VERSION:2.0
METHOD:PUBLISH
BEGIN:VTIMEZONE
TZID:Europe/London
X-LIC-LOCATION:Europe/London
BEGIN:DAYLIGHT
TZOFFSETFROM:+0000
TZOFFSETTO:+0100
TZNAME:BST
DTSTART:19700329T010000
RRULE:FREQ=YEARLY;BYMONTH=3;BYDAY=-1SU
END:DAYLIGHT
BEGIN:STANDARD
TZOFFSETFROM:+0100
TZOFFSETTO:+0000
TZNAME:GMT
DTSTART:19701025T020000
RRULE:FREQ=YEARLY;BYMONTH=10;BYDAY=-1SU
END:STANDARD
END:VTIMEZONE
BEGIN:VEVENT
UID:844301:Event:1571090
DTSTAMP:20260423T010227Z
SUMMARY:Parents and Kids Art Group
DESCRIPTION:Parents and Kids arts and craft group\n\nFor more informat
 ion visit https://harringayonline.com/events/parents-and-kids-art-grou
 p
DTSTART;TZID=Europe/London:20240526T140000
DTEND;TZID=Europe/London:20240526T170000
CATEGORIES:arts, parents, children, craft
LOCATION:All Good Bookshop
WEBSITE:https://allgoodbookshop.co.uk/
URL:https://allgoodbookshop.co.uk/
CONTACT:
ORGANIZER;CN="The All Good Bookshop":https://harringayonline.com/profi
 le/TheAllGoodBookshop
ATTACH;FMTTYPE="image/jpeg":
ATTENDEE;ROLE=REQ-PARTICIPANT;PARTSTAT=ACCEPTED;RSVP=TRUE;CN="The All 
 Good Bookshop":https://harringayonline.com/profile/TheAllGoodBookshop
END:VEVENT
END:VCALENDAR
