BEGIN:VCALENDAR
PRODID:NingEventWidget-v1
VERSION:2.0
METHOD:PUBLISH
BEGIN:VTIMEZONE
TZID:Europe/London
X-LIC-LOCATION:Europe/London
BEGIN:DAYLIGHT
TZOFFSETFROM:+0000
TZOFFSETTO:+0100
TZNAME:BST
DTSTART:19700329T010000
RRULE:FREQ=YEARLY;BYMONTH=3;BYDAY=-1SU
END:DAYLIGHT
BEGIN:STANDARD
TZOFFSETFROM:+0100
TZOFFSETTO:+0000
TZNAME:GMT
DTSTART:19701025T020000
RRULE:FREQ=YEARLY;BYMONTH=10;BYDAY=-1SU
END:STANDARD
END:VTIMEZONE
BEGIN:VEVENT
UID:844301:Event:1523635
DTSTAMP:20260422T042621Z
SUMMARY:Papershade Workshop
DESCRIPTION:Beat the January blues by joining a Papershades workshop r
 un by Ros Freeborn in her Muswell Hill studio. There are two dates com
 ing up soon - Friday, 13th January at 10am and then the following Satu
 rday, 21st January at 10am. The workshops cost £55 and will last abo
 ut three hours. You'll have the run of all the paper Ros's room and wi
 ll be inspired to create a fabulous and totally original lampshade des
 ign. You just make a design on one sheet of A4 card and then Ros print
 s it onto five panels of Papershades paper. The panels are assembled, 
 held together with special supports (wheels with grips at the end) and
  voila! you will have made a fantastic paper lampshade to take home an
 d wow family and friends.\n \nEmail Ros hello@papershades.co.uk to bo
 ok or go to her website here\n\n\n\nFor more information visit https:
 //harringayonline.com/events/papershade-workshop
DTSTART;TZID=Europe/London:20230121T140000
DTEND;TZID=Europe/London:20230121T170000
CATEGORIES:workshop, crafts, muswell, hill, papershade, craft, class
LOCATION:Muswell Hill
WEBSITE:https://www.papershades.co.uk/workshops.html
URL:https://www.papershades.co.uk/workshops.html
CONTACT:
ORGANIZER;CN="Muswell Hill Creatives":https://harringayonline.com/prof
 ile/MuswellHillCreatives
ATTACH;FMTTYPE="image/jpeg":https://storage.ning.com/topology/rest/1.0
 /file/get/10928614466?profile=original
ATTENDEE;ROLE=REQ-PARTICIPANT;PARTSTAT=ACCEPTED;RSVP=TRUE;CN="Muswell 
 Hill Creatives":https://harringayonline.com/profile/MuswellHillCreativ
 es
END:VEVENT
END:VCALENDAR
