BEGIN:VCALENDAR
PRODID:NingEventWidget-v1
VERSION:2.0
METHOD:PUBLISH
BEGIN:VTIMEZONE
TZID:Europe/London
X-LIC-LOCATION:Europe/London
BEGIN:DAYLIGHT
TZOFFSETFROM:+0000
TZOFFSETTO:+0100
TZNAME:BST
DTSTART:19700329T010000
RRULE:FREQ=YEARLY;BYMONTH=3;BYDAY=-1SU
END:DAYLIGHT
BEGIN:STANDARD
TZOFFSETFROM:+0100
TZOFFSETTO:+0000
TZNAME:GMT
DTSTART:19701025T020000
RRULE:FREQ=YEARLY;BYMONTH=10;BYDAY=-1SU
END:STANDARD
END:VTIMEZONE
BEGIN:VEVENT
UID:844301:Event:1618314
DTSTAMP:20260423T040222Z
SUMMARY:Our Librarians: a BIG thank you!
DESCRIPTION:Stroud Green & Harringay Library is to say farewell to Nic
 k, Magnolia, & Therese. Sob!\nThey are staying with the library servic
 e but relocating to other branch libraries.\nWith more than 40yrs serv
 ice to SG&H between them, we say a huge thank you!!\n‘It takes a vil
 lage to raise a child’ & manylocal youngsters fostered their joy of 
 reading with you. Thank you. Thank you. Thank you.\nJoin us at the spe
 cial Steve Dan Mills live music performance....and their last day ....
 ........................\n\nFor more information visit https://harring
 ayonline.com/events/our-librarians-a-big-thank-you
DTSTART;TZID=Europe/London:20250926T174500
DTEND;TZID=Europe/London:20250926T184500
CATEGORIES:"'live", "music'", "'folk/rock'", "'neighbourhood'"
LOCATION:Stroud Green &amp; Harringay Library
WEBSITE:
URL:
CONTACT:
ORGANIZER:Friends of Stroud Green &amp; Harringay Library
ATTACH;FMTTYPE="image/jpeg":https://storage.ning.com/topology/rest/1.0
 /file/get/13707493688?profile=original
ATTENDEE;ROLE=REQ-PARTICIPANT;PARTSTAT=ACCEPTED;RSVP=TRUE;CN="Peter Be
 ardsley":https://harringayonline.com/profile/PeterBeardsley
END:VEVENT
END:VCALENDAR
