BEGIN:VCALENDAR
PRODID:NingEventWidget-v1
VERSION:2.0
METHOD:PUBLISH
BEGIN:VTIMEZONE
TZID:Europe/London
X-LIC-LOCATION:Europe/London
BEGIN:DAYLIGHT
TZOFFSETFROM:+0000
TZOFFSETTO:+0100
TZNAME:BST
DTSTART:19700329T010000
RRULE:FREQ=YEARLY;BYMONTH=3;BYDAY=-1SU
END:DAYLIGHT
BEGIN:STANDARD
TZOFFSETFROM:+0100
TZOFFSETTO:+0000
TZNAME:GMT
DTSTART:19701025T020000
RRULE:FREQ=YEARLY;BYMONTH=10;BYDAY=-1SU
END:STANDARD
END:VTIMEZONE
BEGIN:VEVENT
UID:844301:Event:1633925
DTSTAMP:20260423T221926Z
SUMMARY:Opening Event: London Independent Photography - Crouch End Ann
 ual Exhibition 2026
DESCRIPTION:\n\nFor more information visit https://harringayonline.com
 /events/opening-evenet-london-independent-photography-crouch-end-annua
 l-e
DTSTART;TZID=Europe/London:20260303T183000
DTEND;TZID=Europe/London:20260303T203000
CATEGORIES:photography
LOCATION:Hornsey Library
WEBSITE:
URL:
CONTACT:
ORGANIZER;CN="HoL Site Admin":https://harringayonline.com/profile/Site
 Admin
ATTACH;FMTTYPE="image/jpeg":https://storage.ning.com/topology/rest/1.0
 /file/get/31093044684?profile=original
ATTENDEE;ROLE=REQ-PARTICIPANT;PARTSTAT=ACCEPTED;RSVP=TRUE;CN="HoL Site
  Admin":https://harringayonline.com/profile/SiteAdmin
END:VEVENT
END:VCALENDAR
