BEGIN:VCALENDAR
PRODID:NingEventWidget-v1
VERSION:2.0
METHOD:PUBLISH
BEGIN:VTIMEZONE
TZID:Europe/London
X-LIC-LOCATION:Europe/London
BEGIN:DAYLIGHT
TZOFFSETFROM:+0000
TZOFFSETTO:+0100
TZNAME:BST
DTSTART:19700329T010000
RRULE:FREQ=YEARLY;BYMONTH=3;BYDAY=-1SU
END:DAYLIGHT
BEGIN:STANDARD
TZOFFSETFROM:+0100
TZOFFSETTO:+0000
TZNAME:GMT
DTSTART:19701025T020000
RRULE:FREQ=YEARLY;BYMONTH=10;BYDAY=-1SU
END:STANDARD
END:VTIMEZONE
BEGIN:VEVENT
UID:844301:Event:1617455
DTSTAMP:20260421T132817Z
SUMMARY:Open House Festival: Lauderdale House Tour
DESCRIPTION: Come and get a behind-the-scenes look at Lauderdale Hous
 e at this special free tour.\n \nLed by two of our founding board mem
 bers Peter Barber OBE and Nick Peacey MBE for a fascinating tour of t
 he House and its history:\nDiscover the secret trompe l’oeil behind 
 the stair case panels.\nHear about Lord Lauderdale’s collection of b
 ooks which nearly brought the House down.\nUnderstand the history of t
 he ‘moving front door’.\nFind out what really went on at the archa
 eological parties in the 1800’s.\nAnd why the workmen in in 1582 bri
 cked in chickens, candlesticks and shoes behind the fireplace.\n \nP
 eter will lead the 11am tour, and Nick will lead the 2pm tour.\n \nLa
 uderdale House is delighted to offer these free tours as part of the 
 Open House Festival, a London-wide festival that opens up and celebrat
 es the city’s architecture, special sites and neighbourhoods.\n \nT
 he tours are free of charge but due to high demand we kindly ask you t
 o book a slot so the experience can be as pleasant as possible. \n\nF
 or more information visit https://harringayonline.com/events/open-hous
 e-festival-lauderdale-house-tour
DTSTART;TZID=Europe/London:20250921T110000
DTEND;TZID=Europe/London:20250921T140000
CATEGORIES:"lauderdale house", "heritage building", "heritage tour", "
 history tour", "open house", "house tour"
LOCATION:Lauderdale House
WEBSITE:https://www.lauderdalehouse.org.uk/whats-on/open-house-tour
URL:https://www.lauderdalehouse.org.uk/whats-on/open-house-tour
CONTACT:02083488716
ORGANIZER;CN="Lauderdale House":https://harringayonline.com/profile/So
 phieSerrano
ATTACH;FMTTYPE="image/jpeg":https://storage.ning.com/topology/rest/1.0
 /file/get/13701169858?profile=original
ATTENDEE;ROLE=REQ-PARTICIPANT;PARTSTAT=ACCEPTED;RSVP=TRUE;CN="Lauderda
 le House":https://harringayonline.com/profile/SophieSerrano
END:VEVENT
END:VCALENDAR
