BEGIN:VCALENDAR
PRODID:NingEventWidget-v1
VERSION:2.0
METHOD:PUBLISH
BEGIN:VTIMEZONE
TZID:Europe/London
X-LIC-LOCATION:Europe/London
BEGIN:DAYLIGHT
TZOFFSETFROM:+0000
TZOFFSETTO:+0100
TZNAME:BST
DTSTART:19700329T010000
RRULE:FREQ=YEARLY;BYMONTH=3;BYDAY=-1SU
END:DAYLIGHT
BEGIN:STANDARD
TZOFFSETFROM:+0100
TZOFFSETTO:+0000
TZNAME:GMT
DTSTART:19701025T020000
RRULE:FREQ=YEARLY;BYMONTH=10;BYDAY=-1SU
END:STANDARD
END:VTIMEZONE
BEGIN:VEVENT
UID:844301:Event:1619103
DTSTAMP:20260421T152118Z
SUMMARY:Open House at Bruce Castle Museum
DESCRIPTION:On Sunday afternoon at Bruce Castle, you can enjoy the fol
 lowing:\r\n\r\n\r\nThe Old Kitchen Cafe for a drink and a snack betwee
 n 1pm and 4.30pm\r\n\r\n\r\nFree curator-led historical guided tours, 
 every half hour. Drop-in and join a tour.\r\n\r\n\r\nShow & Tell - Mee
 t the Project Manager (Haringey Council) & see the current restoration
  works of the C17 Boundary Wall by PAYE Stonework with SKK Design.\r\n
 \r\n\r\nFor families: Mystery Manor Trail for free. Step back in time 
 and explore the historic building, uncover hidden stories, and discove
 r the past around every corner! Aimed at families with children aged 5
  - 10 years old, the trail is a stickered activity booklet in which Wi
 lbur the Wyvern, a dragon-like creature, guides families around the bu
 ilding. Pick up your free copy of the trail from the museum reception.
  \r\n\r\n\r\nLocal artist Sam Schneider will have a stall at the Museu
 m selling her original watercolours and quality giclee prints of lands
 capes showing Tottenham Marshes and Tottenham Cemetery, amongst other 
 local views.\r\n\r\n\n\nFor more information visit https://harringayon
 line.com/events/open-house-at-bruce-castle-museum
DTSTART;TZID=Europe/London:20250921T130000
DTEND;TZID=Europe/London:20250921T163000
CATEGORIES:"open house", free, history
LOCATION:Bruce Castle Museum, Bruce Castle Park
WEBSITE:https://www.brucecastle.org/
URL:https://www.brucecastle.org/
CONTACT:
ORGANIZER;CN=Liz:https://harringayonline.com/profile/Liz
ATTACH;FMTTYPE="image/jpeg":https://storage.ning.com/topology/rest/1.0
 /file/get/13715145257?profile=original
ATTENDEE;ROLE=REQ-PARTICIPANT;PARTSTAT=ACCEPTED;RSVP=TRUE;CN=Liz:https
 ://harringayonline.com/profile/Liz
END:VEVENT
END:VCALENDAR
