BEGIN:VCALENDAR
PRODID:NingEventWidget-v1
VERSION:2.0
METHOD:PUBLISH
BEGIN:VTIMEZONE
TZID:Europe/London
X-LIC-LOCATION:Europe/London
BEGIN:DAYLIGHT
TZOFFSETFROM:+0000
TZOFFSETTO:+0100
TZNAME:BST
DTSTART:19700329T010000
RRULE:FREQ=YEARLY;BYMONTH=3;BYDAY=-1SU
END:DAYLIGHT
BEGIN:STANDARD
TZOFFSETFROM:+0100
TZOFFSETTO:+0000
TZNAME:GMT
DTSTART:19701025T020000
RRULE:FREQ=YEARLY;BYMONTH=10;BYDAY=-1SU
END:STANDARD
END:VTIMEZONE
BEGIN:VEVENT
UID:844301:Event:1633552
DTSTAMP:20260424T125223Z
SUMMARY:Nowruz Festival 2026: Exhibitions and trails celebrating Persi
 an New Year
DESCRIPTION:Take part in our cultural and creative community events ce
 lebrating Persian New Year and the arrival of spring, including exhibi
 tions, music, family activities, poetry, a bazaar and more.\r\nWednesd
 ay 11 March Nowruz Private View & Festival Launch 7.30-9.30pm | Free\r
 \nFind out more\r\nMonday 16 March String of Pearls Ensemble 7.30pm | 
 £15.50\r\nFind out more\r\nThursday 19 March Jazz in the House: Mayda
 n Ensemble 8pm | £15.50\r\nFind out more\r\nTuesday 24 March Iran +10
 0 Book Event 8pm | £12\r\nFind out more\r\nSaturday 14 March & Sunday
  15 March Nowruz Bazaar 11am - 5pm | Free\r\nFind out more\r\nSaturday
  14 March\r\nFree Talk - Nowruz: Customs & Camden  12pm | Free - plea
 se book\r\nFind out more\r\n Free Talk - Past, Present & Future: Arts
  of Iran at the V&A 2pm | Free - please book\r\nFind out more\r\n Fre
 e Talk - Shahnameh Reunited: Why Persian Stories Matter 4pm | Free - 
 please book\r\nFind out more\r\n Sunday 15 March Nowruz Family Day 11a
 m - 3pm | Free\r\nFind out more\r\n11 March - 6 April \r\nEchoes in P
 rint Exhibition Lower Gallery Check gallery hours | Free\r\nFind out 
 more\r\n The Boy on the Peacock Throne A Memoir in Images Exhibition 
 Upper Gallery\r\nFind out more\r\n Hopscotch Exhibition Courtyard Gal
 lery Check gallery hours | Free\r\nHaft-sin Trail Park opening hours 
 | Free\r\nPersian Paradise Garden Free\n\nFor more information visit h
 ttps://harringayonline.com/events/nowruz-festival-2026
DTSTART;TZID=Europe/London:20260311T180000
DTEND;TZID=Europe/London:20260406T190000
CATEGORIES:art
LOCATION:Lauderdale House
WEBSITE:https://www.lauderdalehouse.org.uk/whats-on/nowruz-festival-20
 26
URL:https://www.lauderdalehouse.org.uk/whats-on/nowruz-festival-2026
CONTACT:
ORGANIZER;CN="Lauderdale House":https://harringayonline.com/profile/So
 phieSerrano
ATTACH;FMTTYPE="image/jpeg":https://storage.ning.com/topology/rest/1.0
 /file/get/31106366480?profile=original
ATTENDEE;ROLE=REQ-PARTICIPANT;PARTSTAT=ACCEPTED;RSVP=TRUE;CN="Lauderda
 le House":https://harringayonline.com/profile/SophieSerrano
END:VEVENT
END:VCALENDAR
