BEGIN:VCALENDAR
PRODID:NingEventWidget-v1
VERSION:2.0
METHOD:PUBLISH
BEGIN:VTIMEZONE
TZID:Europe/London
X-LIC-LOCATION:Europe/London
BEGIN:DAYLIGHT
TZOFFSETFROM:+0000
TZOFFSETTO:+0100
TZNAME:BST
DTSTART:19700329T010000
RRULE:FREQ=YEARLY;BYMONTH=3;BYDAY=-1SU
END:DAYLIGHT
BEGIN:STANDARD
TZOFFSETFROM:+0100
TZOFFSETTO:+0000
TZNAME:GMT
DTSTART:19701025T020000
RRULE:FREQ=YEARLY;BYMONTH=10;BYDAY=-1SU
END:STANDARD
END:VTIMEZONE
BEGIN:VEVENT
UID:844301:Event:1572033
DTSTAMP:20260424T130715Z
SUMMARY:NOT A BAD WORD - a Poetry and Spoken Word Event
DESCRIPTION: Come along for a fun and varied evening of poetry and mus
 ic to The Crouch End Picturehouse.\r\nFirst half, Open Mic - one poem 
 (one page) per person\r\nSecond half - featured local poets\r\n22nd Ma
 y @ 7.15 to 9.30 pm\r\nFree event - or by donation £3 +\r\nContact: a
 nna.meryt@ameryt.com - or find the event on Facebook\n\nFor more infor
 mation visit https://harringayonline.com/events/not-a-bad-word-a-poetr
 y-and-spoken-word-event
DTSTART;TZID=Europe/London:20240522T191500
DTEND;TZID=Europe/London:20240522T213000
CATEGORIES:"#poetry", "#poetrycommunity", "#poetsofinstagram", "#poetr
 ylovers", "#poets", "#writersofinstagram"
LOCATION:The Crouch End Picturehouse, N8 9BY
WEBSITE:http://ameryt.com
URL:http://ameryt.com
CONTACT:020 7326 2649
ORGANIZER;CN=Sapphireblue:https://harringayonline.com/profile/Sapphire
 blue
ATTACH;FMTTYPE="image/jpeg":https://storage.ning.com/topology/rest/1.0
 /file/get/12493685276?profile=original
ATTENDEE;ROLE=REQ-PARTICIPANT;PARTSTAT=ACCEPTED;RSVP=TRUE;CN=Sapphireb
 lue:https://harringayonline.com/profile/Sapphireblue
END:VEVENT
END:VCALENDAR
