BEGIN:VCALENDAR
PRODID:NingEventWidget-v1
VERSION:2.0
METHOD:PUBLISH
BEGIN:VTIMEZONE
TZID:Europe/London
X-LIC-LOCATION:Europe/London
BEGIN:DAYLIGHT
TZOFFSETFROM:+0000
TZOFFSETTO:+0100
TZNAME:BST
DTSTART:19700329T010000
RRULE:FREQ=YEARLY;BYMONTH=3;BYDAY=-1SU
END:DAYLIGHT
BEGIN:STANDARD
TZOFFSETFROM:+0100
TZOFFSETTO:+0000
TZNAME:GMT
DTSTART:19701025T020000
RRULE:FREQ=YEARLY;BYMONTH=10;BYDAY=-1SU
END:STANDARD
END:VTIMEZONE
BEGIN:VEVENT
UID:844301:Event:1639810
DTSTAMP:20260423T152728Z
SUMMARY:North London Book Festival 2026
DESCRIPTION:\r\nA literary gathering featuring debut and iconic author
 s across multiple stages at Alexandra Palace. Expect an mix of reading
 s, panel discussions, Q&As, workshops, and book signings. \r\nThis ye
 ar will include Laura Bates, Natalie Haynes, and Michael Rosen. Join
 ing them are: Rachel Parris, Alan Hollinghurst, Tessa Hadley, Jeffrey 
 Boakye, Ben Aaronovitch, Kate Muir, Charlotte Mendelson, Natasha Brown
  and many more.\r\nThe festival launches on 23 April 2026 with an open
 ing event of words and music as Kadiatu Kanneh-Mason introduces her ne
 w book To Be Young, Gifted and Black. Her passionate defence of Black 
 excellence in the arts will be accompanied by live performances from B
 raimah and Konya Kanneh-Mason, adding music to the conversation.\r\nYo
 ung book lovers can write poetic verses about creepy crawlies and dino
 saurs with Simon Mole, dress up as great women from history with suffr
 agette descendant Kate Pankhurst, and join Onjali Q. Raúf for an insp
 iring workshop on writing and activism.\r\nThroughout the festival, yo
 u can mingle with your favourite authors, get books signed, and networ
 k with fellow readers and writers. Enjoy readings over a bite to eat a
 nd a glass of wine.\n\nFor more information visit https://harringayonl
 ine.com/events/north-london-book-festival-2026
DTSTART;TZID=Europe/London:20260423T000000
DTEND;TZID=Europe/London:20260426T235900
CATEGORIES:festival
LOCATION:Alexandra Palace
WEBSITE:https://www.alexandrapalace.com/whats-on/north-london-book-fes
 tival/
URL:https://www.alexandrapalace.com/whats-on/north-london-book-festiva
 l/
CONTACT:
ORGANIZER;CN="HoL Site Admin":https://harringayonline.com/profile/Site
 Admin
ATTACH;FMTTYPE="image/jpeg":https://storage.ning.com/topology/rest/1.0
 /file/get/31137395672?profile=original
ATTENDEE;ROLE=REQ-PARTICIPANT;PARTSTAT=ACCEPTED;RSVP=TRUE;CN="HoL Site
  Admin":https://harringayonline.com/profile/SiteAdmin
END:VEVENT
END:VCALENDAR
