BEGIN:VCALENDAR
PRODID:NingEventWidget-v1
VERSION:2.0
METHOD:PUBLISH
BEGIN:VTIMEZONE
TZID:Europe/London
X-LIC-LOCATION:Europe/London
BEGIN:DAYLIGHT
TZOFFSETFROM:+0000
TZOFFSETTO:+0100
TZNAME:BST
DTSTART:19700329T010000
RRULE:FREQ=YEARLY;BYMONTH=3;BYDAY=-1SU
END:DAYLIGHT
BEGIN:STANDARD
TZOFFSETFROM:+0100
TZOFFSETTO:+0000
TZNAME:GMT
DTSTART:19701025T020000
RRULE:FREQ=YEARLY;BYMONTH=10;BYDAY=-1SU
END:STANDARD
END:VTIMEZONE
BEGIN:VEVENT
UID:844301:Event:1520970
DTSTAMP:20260424T110636Z
SUMMARY:No to Rwanda / No more deaths in the English Channel - VIGIL F
 riday 16 January 5pm outside Wood Green Library
DESCRIPTION:After the deaths of at least four people in the Channel th
 is week, and with a High Court Ruling on the Rwanda deal due next week
 , Haringey Welcome is calling a dignified vigil for the people of Hari
 ngey to show migrants, refugees and asylum seeker residents of the bor
 ough a message of welcome and solidarity.\nWe call for an end to the c
 ruel Hostile Environment immigration policy and for it to be replaced 
 by safe routes and a humane and fair immigration system.\nPlease join 
 us for 30 minutes to show your solidarity. Bring candles.\n\nFor more 
 information visit https://harringayonline.com/events/no-to-rwanda-no-m
 ore-deaths-in-the-english-channel-vigil-friday
DTSTART;TZID=Europe/London:20221215T180000
DTEND;TZID=Europe/London:20221216T173000
CATEGORIES:"'hostile", "environment'", vigil, refugees, migrants, "'as
 ylum", "seekers'", "'fair", "immigration'"
LOCATION:outside Wood Green Library
WEBSITE:https://www.haringey.gov.uk/libraries-sport-and-leisure/librar
 ies/wood-green-library#map
URL:https://www.haringey.gov.uk/libraries-sport-and-leisure/libraries/
 wood-green-library#map
CONTACT:
ORGANIZER;CN="Lucy Nabijou":https://harringayonline.com/profile/LucyNa
 bijou691
ATTACH;FMTTYPE="image/jpeg":
ATTENDEE;ROLE=REQ-PARTICIPANT;PARTSTAT=ACCEPTED;RSVP=TRUE;CN="Lucy Nab
 ijou":https://harringayonline.com/profile/LucyNabijou691
END:VEVENT
END:VCALENDAR
