BEGIN:VCALENDAR
PRODID:NingEventWidget-v1
VERSION:2.0
METHOD:PUBLISH
BEGIN:VTIMEZONE
TZID:Europe/London
X-LIC-LOCATION:Europe/London
BEGIN:DAYLIGHT
TZOFFSETFROM:+0000
TZOFFSETTO:+0100
TZNAME:BST
DTSTART:19700329T010000
RRULE:FREQ=YEARLY;BYMONTH=3;BYDAY=-1SU
END:DAYLIGHT
BEGIN:STANDARD
TZOFFSETFROM:+0100
TZOFFSETTO:+0000
TZNAME:GMT
DTSTART:19701025T020000
RRULE:FREQ=YEARLY;BYMONTH=10;BYDAY=-1SU
END:STANDARD
END:VTIMEZONE
BEGIN:VEVENT
UID:844301:Event:1630225
DTSTAMP:20260423T062333Z
SUMMARY:Nature Drawing Group for Adults at Railway Fields
DESCRIPTION:Join our friendly Drawing Group for Adults (18+) this Satu
 rday 17th from 10am - 1pm\r\nBasic materials provided. Beginners welco
 me\r\nFree (but donations welcome)\r\n\n\nFor more information visit h
 ttps://harringayonline.com/events/nature-drawing-group-for-adults-at-r
 ailway-fields-2
DTSTART;TZID=Europe/London:20260117T100000
DTEND;TZID=Europe/London:20260117T130000
CATEGORIES:"railway fields", nature, "drawing group", free
LOCATION:Railway Fields (at the cabin)
WEBSITE:https://friendsofrailwayfields.wordpress.com/
URL:https://friendsofrailwayfields.wordpress.com/
CONTACT:
ORGANIZER;CN=Liz:https://harringayonline.com/profile/Liz
ATTACH;FMTTYPE="image/jpeg":https://storage.ning.com/topology/rest/1.0
 /file/get/31061999697?profile=original
ATTENDEE;ROLE=REQ-PARTICIPANT;PARTSTAT=ACCEPTED;RSVP=TRUE;CN=Liz:https
 ://harringayonline.com/profile/Liz
END:VEVENT
END:VCALENDAR
