BEGIN:VCALENDAR
PRODID:NingEventWidget-v1
VERSION:2.0
METHOD:PUBLISH
BEGIN:VTIMEZONE
TZID:Europe/London
X-LIC-LOCATION:Europe/London
BEGIN:DAYLIGHT
TZOFFSETFROM:+0000
TZOFFSETTO:+0100
TZNAME:BST
DTSTART:19700329T010000
RRULE:FREQ=YEARLY;BYMONTH=3;BYDAY=-1SU
END:DAYLIGHT
BEGIN:STANDARD
TZOFFSETFROM:+0100
TZOFFSETTO:+0000
TZNAME:GMT
DTSTART:19701025T020000
RRULE:FREQ=YEARLY;BYMONTH=10;BYDAY=-1SU
END:STANDARD
END:VTIMEZONE
BEGIN:VEVENT
UID:844301:Event:1502906
DTSTAMP:20260420T190138Z
SUMMARY:N22 Open Studios
DESCRIPTION:The N22 Open Studios returns in 2022.\n Discover art and c
 reativity in the Artist Studios and Artspaces in N22, managed by Colla
 ge Arts. This means you can visit around 50 studios and exhibitions at
  Karamel in Coburg Road, Wood Green N22.\n Tickets are free but donati
 ons are welcome. For over 37 years, Collage Arts has been the creative
  heart of Wood Green. Every day we raise £1,000 to deliver our commun
 ity and outreach programmes which target young people and members of t
 he community with limited access to art and cultural events.\n Open St
 udios is set across multiple venues and locations including:\n Karamel
 , Collage Artspace 1&2, 4 Coburg Road N22 6UJ Collage Artspace 4, Corn
 er of Parkland Road/Caxton Road N22 6DZ\nCollage Artspace 5, Unit 3, 4
 4 Coburg Road N22 6TZ Collage Artspace 3, 3rd/4th floors, 40 Cumberlan
 d Road N22 7BU and other Locations around N22.\n More info including A
 rtists directory : www.n22openstudios.com\n #wecreatewoodgreen #n22ope
 nstudios\n\nFor more information visit https://harringayonline.com/eve
 nts/n22-open-studios-3
DTSTART;TZID=Europe/London:20221113T120000
DTEND;TZID=Europe/London:20221113T180000
CATEGORIES:community, art, openstudio, music
LOCATION:Karamel, Collage Artspace 1&amp;2, 4 Coburg Road N22 6UJ
WEBSITE:https://www.eventbrite.co.uk/e/400736913897
URL:https://www.eventbrite.co.uk/e/400736913897
CONTACT:
ORGANIZER;CN="Collage Arts":https://harringayonline.com/profile/Chocol
 ateFactory
ATTACH;FMTTYPE="image/jpeg":https://storage.ning.com/topology/rest/1.0
 /file/get/10766535659?profile=original
ATTENDEE;ROLE=REQ-PARTICIPANT;PARTSTAT=ACCEPTED;RSVP=TRUE;CN="Collage 
 Arts":https://harringayonline.com/profile/ChocolateFactory
END:VEVENT
END:VCALENDAR
