BEGIN:VCALENDAR
PRODID:NingEventWidget-v1
VERSION:2.0
METHOD:PUBLISH
BEGIN:VTIMEZONE
TZID:Europe/London
X-LIC-LOCATION:Europe/London
BEGIN:DAYLIGHT
TZOFFSETFROM:+0000
TZOFFSETTO:+0100
TZNAME:BST
DTSTART:19700329T010000
RRULE:FREQ=YEARLY;BYMONTH=3;BYDAY=-1SU
END:DAYLIGHT
BEGIN:STANDARD
TZOFFSETFROM:+0100
TZOFFSETTO:+0000
TZNAME:GMT
DTSTART:19701025T020000
RRULE:FREQ=YEARLY;BYMONTH=10;BYDAY=-1SU
END:STANDARD
END:VTIMEZONE
BEGIN:VEVENT
UID:844301:Event:1501254
DTSTAMP:20260425T235312Z
SUMMARY:Muswell Hillbillies Summer Festival celebrating The Kinks
DESCRIPTION:Celebration of the 50th anniversary of The Kinks album \"M
 uswell Hillbillies\", in the town The Kinks originated from, Muswell H
 ill. Fortis Green Road will be closed to traffic for a free festival i
 ncluding international and local tribute bands, food and drink, market
  stalls and dancing.\n\nFor more information visit https://harringayon
 line.com/events/muswell-hillbillies-summer-festival-celebrating-the-ki
 nks
DTSTART;TZID=Europe/London:20220910T120000
DTEND;TZID=Europe/London:20220910T200000
CATEGORIES:"the kinks", music, festival, "muswell hill"
LOCATION:Fortis Green Road, Muswell Hill
WEBSITE:http://www.muswellbusiness.wordpress.com
URL:http://www.muswellbusiness.wordpress.com
CONTACT:
ORGANIZER:Muswell Business / Friends of St James Square
ATTACH;FMTTYPE="image/jpeg":
ATTENDEE;ROLE=REQ-PARTICIPANT;PARTSTAT=ACCEPTED;RSVP=TRUE;CN="Friends 
 of St James Square":https://harringayonline.com/profile/FriendsofStJam
 esSquare
END:VEVENT
END:VCALENDAR
