BEGIN:VCALENDAR
PRODID:NingEventWidget-v1
VERSION:2.0
METHOD:PUBLISH
BEGIN:VTIMEZONE
TZID:Europe/London
X-LIC-LOCATION:Europe/London
BEGIN:DAYLIGHT
TZOFFSETFROM:+0000
TZOFFSETTO:+0100
TZNAME:BST
DTSTART:19700329T010000
RRULE:FREQ=YEARLY;BYMONTH=3;BYDAY=-1SU
END:DAYLIGHT
BEGIN:STANDARD
TZOFFSETFROM:+0100
TZOFFSETTO:+0000
TZNAME:GMT
DTSTART:19701025T020000
RRULE:FREQ=YEARLY;BYMONTH=10;BYDAY=-1SU
END:STANDARD
END:VTIMEZONE
BEGIN:VEVENT
UID:844301:Event:1608730
DTSTAMP:20260423T004243Z
SUMMARY:Monthly Nature Drawing Group for Adults at Railway Fields
DESCRIPTION:Free drop in, monthly nature drawing group for adults ever
 y third Saturday of the month\r\n\r\nBeginners welcome, basic material
 s provided\r\nFeel free to bring your own art materials and sketchbook
 \r\nRefreshments provided, donations welcome.\r\nMeet at the cabin at 
 Railway Fields at 10am - 1pm\r\nContact friendsofrailwayfields@gmail.
 com\r\n\n\nFor more information visit https://harringayonline.com/even
 ts/monthly-nature-drawing-group-for-adults-at-railway-fields-1
DTSTART;TZID=Europe/London:20250621T100000
DTEND;TZID=Europe/London:20250621T130000
CATEGORIES:"railway fields", nature, "drawing group", free
LOCATION:Railway Fields
WEBSITE:https://friendsofrailwayfields.wordpress.com/upcoming-events/
URL:https://friendsofrailwayfields.wordpress.com/upcoming-events/
CONTACT:
ORGANIZER;CN=Liz:https://harringayonline.com/profile/Liz
ATTACH;FMTTYPE="image/jpeg":https://storage.ning.com/topology/rest/1.0
 /file/get/10914959266?profile=original
ATTENDEE;ROLE=REQ-PARTICIPANT;PARTSTAT=ACCEPTED;RSVP=TRUE;CN=Liz:https
 ://harringayonline.com/profile/Liz
END:VEVENT
END:VCALENDAR
