BEGIN:VCALENDAR
PRODID:NingEventWidget-v1
VERSION:2.0
METHOD:PUBLISH
BEGIN:VTIMEZONE
TZID:Europe/London
X-LIC-LOCATION:Europe/London
BEGIN:DAYLIGHT
TZOFFSETFROM:+0000
TZOFFSETTO:+0100
TZNAME:BST
DTSTART:19700329T010000
RRULE:FREQ=YEARLY;BYMONTH=3;BYDAY=-1SU
END:DAYLIGHT
BEGIN:STANDARD
TZOFFSETFROM:+0100
TZOFFSETTO:+0000
TZNAME:GMT
DTSTART:19701025T020000
RRULE:FREQ=YEARLY;BYMONTH=10;BYDAY=-1SU
END:STANDARD
END:VTIMEZONE
BEGIN:VEVENT
UID:844301:Event:1541076
DTSTAMP:20260425T030532Z
SUMMARY:Memorial Concert for Bruce Kent
DESCRIPTION:A community and parish event to mark the passing of one of
  Haringey's significant residents, Bruce Kent, who died last year in J
 une. Local musicians will take part. The event will be for charity; no
  need to book, pay on door.\n\nFor more information visit https://harr
 ingayonline.com/events/memorial-concert-for-bruce-kent
DTSTART;TZID=Europe/London:20230611T183000
DTEND;TZID=Europe/London:20230611T203000
CATEGORIES:memorial, concert, for, bruce, kent
LOCATION:St Mellitus Church, Tollington Park, N4 3AG
WEBSITE:https://parish.rcdow.org.uk/tollingtonpark/
URL:https://parish.rcdow.org.uk/tollingtonpark/
CONTACT:
ORGANIZER;CN="Percy Aggett":https://harringayonline.com/profile/PercyA
 ggett
ATTACH;FMTTYPE="image/jpeg":https://storage.ning.com/topology/rest/1.0
 /file/get/11409868652?profile=original
ATTENDEE;ROLE=REQ-PARTICIPANT;PARTSTAT=ACCEPTED;RSVP=TRUE;CN="Percy Ag
 gett":https://harringayonline.com/profile/PercyAggett
END:VEVENT
END:VCALENDAR
