BEGIN:VCALENDAR
PRODID:NingEventWidget-v1
VERSION:2.0
METHOD:PUBLISH
BEGIN:VTIMEZONE
TZID:Europe/London
X-LIC-LOCATION:Europe/London
BEGIN:DAYLIGHT
TZOFFSETFROM:+0000
TZOFFSETTO:+0100
TZNAME:BST
DTSTART:19700329T010000
RRULE:FREQ=YEARLY;BYMONTH=3;BYDAY=-1SU
END:DAYLIGHT
BEGIN:STANDARD
TZOFFSETFROM:+0100
TZOFFSETTO:+0000
TZNAME:GMT
DTSTART:19701025T020000
RRULE:FREQ=YEARLY;BYMONTH=10;BYDAY=-1SU
END:STANDARD
END:VTIMEZONE
BEGIN:VEVENT
UID:844301:Event:1504444
DTSTAMP:20260423T083553Z
SUMMARY:Meadow Conservation Parkland Walk South
DESCRIPTION:Thursday 1st September10am – 3pmJoin us as we continuing
  the meadow embankment cut and rake to get it ready for next years gro
 wth!\nClick HERE to sign up for a place\nLocation:\nWhat three words: 
 ///begins.loaf.dark\nGoogle Maps Link\n\nFor more information visit ht
 tps://harringayonline.com/events/meadow-conservation-parkland-walk-sou
 th
DTSTART;TZID=Europe/London:20220901T100000
DTEND;TZID=Europe/London:20220901T150000
CATEGORIES:volunteering, nature, conservation
LOCATION:Stapleton Hall Road entrance, near N4 3QF
WEBSITE:https://www.google.com/maps/dir/51.5732449,-0.1124148/@51.5723
 424,-0.1116896,17.75z/data=!4m2!4m1!3e0
URL:https://www.google.com/maps/dir/51.5732449,-0.1124148/@51.5723424,
 -0.1116896,17.75z/data=!4m2!4m1!3e0
CONTACT:
ORGANIZER:The Conservation Volunteers Haringey
ATTACH;FMTTYPE="image/jpeg":https://storage.ning.com/topology/rest/1.0
 /file/get/10792706879?profile=original
ATTENDEE;ROLE=REQ-PARTICIPANT;PARTSTAT=ACCEPTED;RSVP=TRUE;CN="TCV Hari
 ngey":https://harringayonline.com/profile/RailwayFields
END:VEVENT
END:VCALENDAR
