BEGIN:VCALENDAR
PRODID:NingEventWidget-v1
VERSION:2.0
METHOD:PUBLISH
BEGIN:VTIMEZONE
TZID:Europe/London
X-LIC-LOCATION:Europe/London
BEGIN:DAYLIGHT
TZOFFSETFROM:+0000
TZOFFSETTO:+0100
TZNAME:BST
DTSTART:19700329T010000
RRULE:FREQ=YEARLY;BYMONTH=3;BYDAY=-1SU
END:DAYLIGHT
BEGIN:STANDARD
TZOFFSETFROM:+0100
TZOFFSETTO:+0000
TZNAME:GMT
DTSTART:19701025T020000
RRULE:FREQ=YEARLY;BYMONTH=10;BYDAY=-1SU
END:STANDARD
END:VTIMEZONE
BEGIN:VEVENT
UID:844301:Event:1495868
DTSTAMP:20260423T224920Z
SUMMARY:Martial Arts Course for beginners (BJJ Brazilian Jiu Jitsu)
DESCRIPTION:Alexandra Park BJJ will be running a 6-week introductory m
 artial arts course in September 2022 (TBC). \r\nt will cover all the 
 basic skills and movements of Brazilian Jiu-Jitsu. This course is open
  to anyone over the age of 12.\r\nThe BJJ course enables you to develo
 p your fitness levels, balance, coordination and flexibility develop i
 n a no-pressure environment and provides the opportunity to start a ne
 w sport at a reasonable price with like-minded beginners.\r\nBrazilian
  Jiu-Jitsu (BJJ) is a full contact martial art, combat sport, and a se
 lf-defence system that focuses on grappling and especially ground figh
 ting. Alexandra Park BJJ offers Brazilian Jiu-Jitsu classes for all le
 vels.\r\nThe course will run on Thursdays & Saturdays at Alexandra Par
 k School, Rhodes Avenue, London, N22 7UT. For the duration of the cour
 se, attendees will be able to attend Monday sessions at no extra charg
 e.\r\nAll Participants at Alexandra Park BJJ are expected to sign up t
 o our code of conduct and an insurance waiver.\r\nPrices:\r\n£45 per 
 person (+booking fee)\r\n\n\nFor more information visit https://harrin
 gayonline.com/events/martial-arts-course-for-beginners-bjj-brazilian-j
 iu-jitsu
DTSTART;TZID=Europe/London:20220903T130000
DTEND;TZID=Europe/London:20220903T190000
CATEGORIES:martial, arts, muswell, hill
LOCATION:Alexandra Park School
WEBSITE:https://www.eventbrite.co.uk/e/martials-arts-course-for-beginn
 ers-bjj-brazilian-jiu-jitsu-tickets-331261290437
URL:https://www.eventbrite.co.uk/e/martials-arts-course-for-beginners-
 bjj-brazilian-jiu-jitsu-tickets-331261290437
CONTACT:
ORGANIZER;CN="Fed R":https://harringayonline.com/profile/FedR
ATTACH;FMTTYPE="image/jpeg":
ATTENDEE;ROLE=REQ-PARTICIPANT;PARTSTAT=ACCEPTED;RSVP=TRUE;CN="Fed R":h
 ttps://harringayonline.com/profile/FedR
END:VEVENT
END:VCALENDAR
