BEGIN:VCALENDAR
PRODID:NingEventWidget-v1
VERSION:2.0
METHOD:PUBLISH
BEGIN:VTIMEZONE
TZID:Europe/London
X-LIC-LOCATION:Europe/London
BEGIN:DAYLIGHT
TZOFFSETFROM:+0000
TZOFFSETTO:+0100
TZNAME:BST
DTSTART:19700329T010000
RRULE:FREQ=YEARLY;BYMONTH=3;BYDAY=-1SU
END:DAYLIGHT
BEGIN:STANDARD
TZOFFSETFROM:+0100
TZOFFSETTO:+0000
TZNAME:GMT
DTSTART:19701025T020000
RRULE:FREQ=YEARLY;BYMONTH=10;BYDAY=-1SU
END:STANDARD
END:VTIMEZONE
BEGIN:VEVENT
UID:844301:Event:1505481
DTSTAMP:20260426T051237Z
SUMMARY:Markfield Road Festival - Celebrating Creatives through Art, M
 usic and Talks
DESCRIPTION:Markfield Road Festival is a free festival taking place on
  9 – 11 September 2022 on Markfield Road in South Tottenham, London.
  The three-day festival, organised by Gaunson Creative Studios with Th
 e Cove, Craving and Ten87, will celebrate both emerging and establishe
 d creatives through art, music and discussion.\nVisitors can enjoy act
 ivities including Gaunson Creative Open Studios, Art In The Yard, live
  music, panel discussions on music, art & creativity, film screenings,
  spoken poetry, DJs, food, bars, a carnival procession with a local pr
 imary school, an art raffle, children’s activities, face painting an
 d more.\nFor more details of what’s on and specific timings visit h
 ttps://www.markfieldroadfestival.co.uk/\n\nFor more information visit 
 https://harringayonline.com/events/markfield-road-festival-celebrating
 -creatives-through-art-music
DTSTART;TZID=Europe/London:20220909T150000
DTEND;TZID=Europe/London:20220911T230000
CATEGORIES:"community event", "art and music festival", festival
LOCATION:Markfield Road, N15
WEBSITE:https://www.markfieldroadfestival.co.uk/
URL:https://www.markfieldroadfestival.co.uk/
CONTACT:
ORGANIZER:Gaunson Creative Open Studios
ATTACH;FMTTYPE="image/jpeg":https://storage.ning.com/topology/rest/1.0
 /file/get/10800918268?profile=original
ATTENDEE;ROLE=REQ-PARTICIPANT;PARTSTAT=ACCEPTED;RSVP=TRUE;CN="Hazel Br
 own":https://harringayonline.com/profile/HazelBrown
END:VEVENT
END:VCALENDAR
