BEGIN:VCALENDAR
PRODID:NingEventWidget-v1
VERSION:2.0
METHOD:PUBLISH
BEGIN:VTIMEZONE
TZID:Europe/London
X-LIC-LOCATION:Europe/London
BEGIN:DAYLIGHT
TZOFFSETFROM:+0000
TZOFFSETTO:+0100
TZNAME:BST
DTSTART:19700329T010000
RRULE:FREQ=YEARLY;BYMONTH=3;BYDAY=-1SU
END:DAYLIGHT
BEGIN:STANDARD
TZOFFSETFROM:+0100
TZOFFSETTO:+0000
TZNAME:GMT
DTSTART:19701025T020000
RRULE:FREQ=YEARLY;BYMONTH=10;BYDAY=-1SU
END:STANDARD
END:VTIMEZONE
BEGIN:VEVENT
UID:844301:Event:1632487
DTSTAMP:20260423T160739Z
SUMMARY:MAKE VOTES MATTER
DESCRIPTION:With politics being somewhat chaotic Proportional Represen
 tation is increasingly being seen as a large part of the answer.Â  Our
  February meeting will discuss this and our upcoming Roadshow on the 1
 4th.\nPlease join us. All are welcome whatever your politics or none.Â
   PR is the only topic under discussion.\n\nFor more information visit
  https://harringayonline.com/events/make-votes-matter-2
DTSTART;TZID=Europe/London:20260212T190000
DTEND;TZID=Europe/London:20260212T200000
CATEGORIES:"unblock democracy"
LOCATION:Zoom
WEBSITE:
URL:
CONTACT:mvmnorthlondon@hotmail.com
ORGANIZER;CN="K. E. Hubbard":https://harringayonline.com/profile/KEHub
 bard
ATTACH;FMTTYPE="image/jpeg":
ATTENDEE;ROLE=REQ-PARTICIPANT;PARTSTAT=ACCEPTED;RSVP=TRUE;CN="K. E. Hu
 bbard":https://harringayonline.com/profile/KEHubbard
END:VEVENT
END:VCALENDAR
