BEGIN:VCALENDAR
PRODID:NingEventWidget-v1
VERSION:2.0
METHOD:PUBLISH
BEGIN:VTIMEZONE
TZID:Europe/London
X-LIC-LOCATION:Europe/London
BEGIN:DAYLIGHT
TZOFFSETFROM:+0000
TZOFFSETTO:+0100
TZNAME:BST
DTSTART:19700329T010000
RRULE:FREQ=YEARLY;BYMONTH=3;BYDAY=-1SU
END:DAYLIGHT
BEGIN:STANDARD
TZOFFSETFROM:+0100
TZOFFSETTO:+0000
TZNAME:GMT
DTSTART:19701025T020000
RRULE:FREQ=YEARLY;BYMONTH=10;BYDAY=-1SU
END:STANDARD
END:VTIMEZONE
BEGIN:VEVENT
UID:844301:Event:1632764
DTSTAMP:20260425T011637Z
SUMMARY:Magerison
DESCRIPTION:Billy Magerison is a singer-songwriter and multi-instrumen
 talist who has honed his craft performing across South London, Bristol
 , and the South West. Blending influences from blues, rock, reggae, an
 d soul with elements of his Celtic heritage, Billy has developed a dis
 tinctive sound characterised by tight grooves, soulful vocals, and exp
 erimental effects that verge on the psychedelic.\nArmed with just his 
 guitar, Billy has begun sharing deeply personal songs that resonate wi
 th audiences. His debut releases have received critical acclaim, with 
 two tracks earning “Track of the Week” on BBC Radio Bristol. Billy
  has also been featured on BBC Introducing in the West and was invited
  to the BBC Upload studio for a week of performances.\nIn addition to 
 his live performances, Billy is active online, where his content has g
 arnered over 250,000 views across social media platforms, further soli
 difying his reputation as a compelling and authentic artist.\nHe will 
 be joined on stage at Jam in a Jar by Ryan Windross on bass and Jo Coc
 co on drums.\n\nFor more information visit https://harringayonline.com
 /events/magerison
DTSTART;TZID=Europe/London:20260227T180000
DTEND;TZID=Europe/London:20260228T020000
CATEGORIES:music, "live music", cocktails
LOCATION:Jam in a Jar
WEBSITE:https://jaminajarbar.co.uk
URL:https://jaminajarbar.co.uk
CONTACT:
ORGANIZER;CN="Jam in a Jar":https://harringayonline.com/profile/Jamina
 Jar
ATTACH;FMTTYPE="image/jpeg":https://storage.ning.com/topology/rest/1.0
 /file/get/31082551101?profile=original
ATTENDEE;ROLE=REQ-PARTICIPANT;PARTSTAT=ACCEPTED;RSVP=TRUE;CN="Jam in a
  Jar":https://harringayonline.com/profile/JaminaJar
END:VEVENT
END:VCALENDAR
