BEGIN:VCALENDAR
PRODID:NingEventWidget-v1
VERSION:2.0
METHOD:PUBLISH
BEGIN:VTIMEZONE
TZID:Europe/London
X-LIC-LOCATION:Europe/London
BEGIN:DAYLIGHT
TZOFFSETFROM:+0000
TZOFFSETTO:+0100
TZNAME:BST
DTSTART:19700329T010000
RRULE:FREQ=YEARLY;BYMONTH=3;BYDAY=-1SU
END:DAYLIGHT
BEGIN:STANDARD
TZOFFSETFROM:+0100
TZOFFSETTO:+0000
TZNAME:GMT
DTSTART:19701025T020000
RRULE:FREQ=YEARLY;BYMONTH=10;BYDAY=-1SU
END:STANDARD
END:VTIMEZONE
BEGIN:VEVENT
UID:844301:Event:1636856
DTSTAMP:20260424T183300Z
SUMMARY:Ma'Grass &amp; The Delta Fires
DESCRIPTION:Ma’Grass & The Delta Fires (Updated name!) brings a tigh
 t, groove-driven blend of funk, soul and jazz, led by dynamic bass lin
 es and a fluid, improvisational approach. Expect deep pocket, high ene
 rgy and a set that moves between classic influences and modern texture
 s.\nhttps://www.instagram.com/ma.grass\n\nFor more information visit h
 ttps://harringayonline.com/events/ma-grass-amp-the-delta-fires
DTSTART;TZID=Europe/London:20260403T203000
DTEND;TZID=Europe/London:20260404T020000
CATEGORIES:music, "live music", cocktails
LOCATION:Jam in a Jar
WEBSITE:https://jaminajarbar.co.uk
URL:https://jaminajarbar.co.uk
CONTACT:
ORGANIZER;CN="Jam in a Jar":https://harringayonline.com/profile/Jamina
 Jar
ATTACH;FMTTYPE="image/jpeg":https://storage.ning.com/topology/rest/1.0
 /file/get/31111012880?profile=original
ATTENDEE;ROLE=REQ-PARTICIPANT;PARTSTAT=ACCEPTED;RSVP=TRUE;CN="Jam in a
  Jar":https://harringayonline.com/profile/JaminaJar
END:VEVENT
END:VCALENDAR
