BEGIN:VCALENDAR
PRODID:NingEventWidget-v1
VERSION:2.0
METHOD:PUBLISH
BEGIN:VTIMEZONE
TZID:Europe/London
X-LIC-LOCATION:Europe/London
BEGIN:DAYLIGHT
TZOFFSETFROM:+0000
TZOFFSETTO:+0100
TZNAME:BST
DTSTART:19700329T010000
RRULE:FREQ=YEARLY;BYMONTH=3;BYDAY=-1SU
END:DAYLIGHT
BEGIN:STANDARD
TZOFFSETFROM:+0100
TZOFFSETTO:+0000
TZNAME:GMT
DTSTART:19701025T020000
RRULE:FREQ=YEARLY;BYMONTH=10;BYDAY=-1SU
END:STANDARD
END:VTIMEZONE
BEGIN:VEVENT
UID:844301:Event:1504602
DTSTAMP:20260424T003144Z
SUMMARY:London Metropolitan Brass Community Band in The Grove
DESCRIPTION:After a packed programme of music in The Grove this year, 
 a welcome return for the London Metropolitan Brass who have been ente
 rtaining us for the last 9 years.... Time to sit on the grass and enjo
 y the the music wafting over the grove - listen and try to identify al
 l the tunes.\n\nFor more information visit https://harringayonline.com
 /events/london-metropolitan-brass-community-band-in-the-grove
DTSTART;TZID=Europe/London:20220904T140000
DTEND;TZID=Europe/London:20220904T160000
CATEGORIES:brass, music, band
LOCATION:Alexandra Park
WEBSITE:http://www.friendsofalexandrapark.org
URL:http://www.friendsofalexandrapark.org
CONTACT:
ORGANIZER;CN="Stephen Middleton":https://harringayonline.com/profile/S
 tephenMiddleton
ATTACH;FMTTYPE="image/jpeg":https://storage.ning.com/topology/rest/1.0
 /file/get/10793940501?profile=original
ATTENDEE;ROLE=REQ-PARTICIPANT;PARTSTAT=ACCEPTED;RSVP=TRUE;CN="Stephen 
 Middleton":https://harringayonline.com/profile/StephenMiddleton
END:VEVENT
END:VCALENDAR
