BEGIN:VCALENDAR
PRODID:NingEventWidget-v1
VERSION:2.0
METHOD:PUBLISH
BEGIN:VTIMEZONE
TZID:Europe/London
X-LIC-LOCATION:Europe/London
BEGIN:DAYLIGHT
TZOFFSETFROM:+0000
TZOFFSETTO:+0100
TZNAME:BST
DTSTART:19700329T010000
RRULE:FREQ=YEARLY;BYMONTH=3;BYDAY=-1SU
END:DAYLIGHT
BEGIN:STANDARD
TZOFFSETFROM:+0100
TZOFFSETTO:+0000
TZNAME:GMT
DTSTART:19701025T020000
RRULE:FREQ=YEARLY;BYMONTH=10;BYDAY=-1SU
END:STANDARD
END:VTIMEZONE
BEGIN:VEVENT
UID:844301:Event:1569722
DTSTAMP:20260425T113430Z
SUMMARY:London Ceramics Market at Hornsey Parish Church, N10
DESCRIPTION:The popular London Ceramics Market returns once again!\nDo
 ors open midday: free entry; refreshments\nWide selection of handmade 
 pottery by local artists. Browse the stalls, meet the potters and snap
  up a unique piece of tableware or a stylish vase. Treat yourself or 
 find the perfect gift. \nWe look forward to seeing you on Sunday 21st
  April.\n\nFor more information visit https://harringayonline.com/even
 ts/london-ceramics-market-at-hornsey-parish-church-n10
DTSTART;TZID=Europe/London:20240421T120000
DTEND;TZID=Europe/London:20240421T170000
CATEGORIES:ceramics, pottery, "wheel-thrown pottery", "wedding gift", 
 market, "local art", "art n10", handmade, n10, artisan, free, local, p
 resent, "local maker", "shop local"
LOCATION:Hornsey Parish Church Hall, N10
WEBSITE:https://maps.app.goo.gl/1eNKpEBmaFDWrtgZ9
URL:https://maps.app.goo.gl/1eNKpEBmaFDWrtgZ9
CONTACT:
ORGANIZER;CN=Liz:https://harringayonline.com/profile/LizEdmunds913
ATTACH;FMTTYPE="image/jpeg":https://storage.ning.com/topology/rest/1.0
 /file/get/12425386278?profile=original
ATTENDEE;ROLE=REQ-PARTICIPANT;PARTSTAT=ACCEPTED;RSVP=TRUE;CN=Liz:https
 ://harringayonline.com/profile/LizEdmunds913
END:VEVENT
END:VCALENDAR
