BEGIN:VCALENDAR
PRODID:NingEventWidget-v1
VERSION:2.0
METHOD:PUBLISH
BEGIN:VTIMEZONE
TZID:Europe/London
X-LIC-LOCATION:Europe/London
BEGIN:DAYLIGHT
TZOFFSETFROM:+0000
TZOFFSETTO:+0100
TZNAME:BST
DTSTART:19700329T010000
RRULE:FREQ=YEARLY;BYMONTH=3;BYDAY=-1SU
END:DAYLIGHT
BEGIN:STANDARD
TZOFFSETFROM:+0100
TZOFFSETTO:+0000
TZNAME:GMT
DTSTART:19701025T020000
RRULE:FREQ=YEARLY;BYMONTH=10;BYDAY=-1SU
END:STANDARD
END:VTIMEZONE
BEGIN:VEVENT
UID:844301:Event:1612959
DTSTAMP:20260423T091934Z
SUMMARY:Live Robot Fighting!
DESCRIPTION:\nLive robot fighting in Wood Green (N22) on August 23rd 2
 025, providing 4 rounds of (UK) Beetleweight robot fighting at the Kar
 amel Club in Wood Green where 24 roboteers do their utmost to break ea
 ch others angry RC cars.\nWe are expecting the venue to open for robot
 eers around 10:00 am, the event to start around 12:00 and be finished 
 by 6pm, allowing for a lunch break, whiteboards and ‘fun’. Everyon
 e loves fun, right ?\nThis is a relaxed, social and experimental event
  to prove that yes, we can put on robot fights in the city.\nHow does 
 the event work ?\nAll entrants are garanteed 4 fights, with time betwe
 en each for repairs and relaxation. First round will be randomised, wh
 er possible pitting spinners vs spinners, non vs non etc. From there t
 he swiss system will be used via the generated Challonge bracket to de
 cide fights, where winners fight winners and runner-ups fight runner-u
 ps.\nIf there is time and desire, anyone tied on points by the end of 
 the day is welcome to fight it out for a final ranking.\n“BBB Rules
  are in place, including switches. full information can be found her
 e: http://bbb.gd/brules\nWhat is at the venue ?\nThe Karamel club is a
 n exclusively Vegan, community theater, bar and cafe in the heart of W
 ood Green, London. The bar will be open all day and the kitchen from 1
 2:30, serving Vegan food and drinks to customers and robteers alike.\n
 What do I need to do ?\nSit tight for now and wait for signups to open
  at the start of July on Rampage. If this is your first event you can 
 pre-create your ‘bot profile on https://www.rampagebots.comin advanc
 e for signups opening on Friday July 4th at 8pm. While you wait, re-bo
 ok your summer holidays, plan your travel into the city, arrange a dog
 sitter, get tickets to the Eye and generally get ready for a beautuful
  Saturday in the City.\nIf possible bring an extension lead. Some will
  exist. I don’t yet know how many! We do have chairs though. And tab
 les.\nOn the day, arrive after 10:00, techcheck before 11:30, relax an
 d get ready for some fun and games from 12:00\nTravel\nThe Karamel Clu
 b is at 4 Coburg Rd, London N22 6UJ. 5 minutes walk from Wood Green Un
 derground on the Picadilly line, which itself is 20 minutes Northbound
  from Kings Cross area, or approx 30 minutes from Paddington.\nThe use
  of public transport is HIGHLY RECCOMENDED. There are no planned track
  closures on the day so do yourself a favour and get the train/tube. W
 hile there is parking on site, it is limited and the parking attendant
 s in the area are voracous.\n\nFor more information visit https://harr
 ingayonline.com/events/live-robot-fighting
DTSTART;TZID=Europe/London:20250823T000000
DTEND;TZID=Europe/London:20250823T173000
CATEGORIES:competition, competitive, science, sports, robots, live-, r
 obot-fighting
LOCATION:karamel, 4 Coburg Road, Wood Green, London N22 6UJ
WEBSITE:https://www.musicglue.com/karamel/events/2025-08-23-live-robot
 -fighting-karamel
URL:https://www.musicglue.com/karamel/events/2025-08-23-live-robot-fig
 hting-karamel
CONTACT:
ORGANIZER;CN="Collage Arts":https://harringayonline.com/profile/Chocol
 ateFactory
ATTACH;FMTTYPE="image/jpeg":https://storage.ning.com/topology/rest/1.0
 /file/get/13650459258?profile=original
ATTENDEE;ROLE=REQ-PARTICIPANT;PARTSTAT=ACCEPTED;RSVP=TRUE;CN="Collage 
 Arts":https://harringayonline.com/profile/ChocolateFactory
END:VEVENT
END:VCALENDAR
