BEGIN:VCALENDAR
PRODID:NingEventWidget-v1
VERSION:2.0
METHOD:PUBLISH
BEGIN:VTIMEZONE
TZID:Europe/London
X-LIC-LOCATION:Europe/London
BEGIN:DAYLIGHT
TZOFFSETFROM:+0000
TZOFFSETTO:+0100
TZNAME:BST
DTSTART:19700329T010000
RRULE:FREQ=YEARLY;BYMONTH=3;BYDAY=-1SU
END:DAYLIGHT
BEGIN:STANDARD
TZOFFSETFROM:+0100
TZOFFSETTO:+0000
TZNAME:GMT
DTSTART:19701025T020000
RRULE:FREQ=YEARLY;BYMONTH=10;BYDAY=-1SU
END:STANDARD
END:VTIMEZONE
BEGIN:VEVENT
UID:844301:Event:1542714
DTSTAMP:20260422T164530Z
SUMMARY:Linda Moylan at Bowes Park Folk Club
DESCRIPTION:A natural songwriter and storyteller, Linda’s earthy and
  beautiful voice intertwines with moving, relatable narratives. Her la
 test album, The Merchant, is getting much adulation from the critics: 
 Oz Hardwick describes her as “a storyteller through and through; her
  voice shape-shifting into each song to bring it right to the listener
 ’s heart. (RnR Magazine)\nFloor spots available - email bowesparkfol
 k@gmail.com, or just turn up. Come early and enjoy mediterranean food!
 \n\nFor more information visit https://harringayonline.com/events/lind
 a-moylan-at-bowes-park-folk-club
DTSTART;TZID=Europe/London:20230713T194500
DTEND;TZID=Europe/London:20230713T223000
CATEGORIES:"live music", "folk music"
LOCATION:Mum's Bistro
WEBSITE:https://bowes-park-folk-club.mailchimpsites.com/
URL:https://bowes-park-folk-club.mailchimpsites.com/
CONTACT:
ORGANIZER;CN="Catharine Perry":https://harringayonline.com/profile/Cat
 harinePerry
ATTACH;FMTTYPE="image/jpeg":https://storage.ning.com/topology/rest/1.0
 /file/get/12125167896?profile=original
ATTENDEE;ROLE=REQ-PARTICIPANT;PARTSTAT=ACCEPTED;RSVP=TRUE;CN="Catharin
 e Perry":https://harringayonline.com/profile/CatharinePerry
END:VEVENT
END:VCALENDAR
