BEGIN:VCALENDAR
PRODID:NingEventWidget-v1
VERSION:2.0
METHOD:PUBLISH
BEGIN:VTIMEZONE
TZID:Europe/London
X-LIC-LOCATION:Europe/London
BEGIN:DAYLIGHT
TZOFFSETFROM:+0000
TZOFFSETTO:+0100
TZNAME:BST
DTSTART:19700329T010000
RRULE:FREQ=YEARLY;BYMONTH=3;BYDAY=-1SU
END:DAYLIGHT
BEGIN:STANDARD
TZOFFSETFROM:+0100
TZOFFSETTO:+0000
TZNAME:GMT
DTSTART:19701025T020000
RRULE:FREQ=YEARLY;BYMONTH=10;BYDAY=-1SU
END:STANDARD
END:VTIMEZONE
BEGIN:VEVENT
UID:844301:Event:1610090
DTSTAMP:20260423T124948Z
SUMMARY:Life Drawing at the Museum
DESCRIPTION:Join us for an untutored life drawing session with profess
 ional life model Elisa.\nElisa is a London based Italian freelance per
 former, soft tissue therapist, and dance artist, working both national
 ly and internationally across theatre, gallery and museum settings, ou
 tdoors and site-specific contexts since 2012. She has over 12 years ex
 perience as life-model, posing for independent artists as well as inst
 itutions, and is a dynamic, expressive and creative model.\nWhether a 
 beginner or experienced practitioner, join a friendly community of art
  lovers and nurture your creativity in our life drawing sessions.\nWe 
 can provide drawing boards and a selection of basic drawing materials.
  You are more than welcome to take your kit with you. Please note: onl
 y dry materials are allowed in the galleries.\nIf you have any accessi
 bility needs, please contact education@estorickcollection.com\n\nKind
 ly supported by Cass Art.\n\nStandard\n£15\n\nEstorick Collection Me
 mber\n£12\n\nStudents\n£12\n\nPay It Forward\n£20\n\nOpen Door\n£5
 \n\n\n\nPay It Forward Ticket: Pay a little extra and help us make ou
 r events more inclusive. The aim of this scheme is to provide tickets 
 at a lower price for people for whom price may be a barrier to partici
 pation.Open Door Ticket: A more affordable ticket for those whom pric
 e might be a barrier to participation. Please note that Open Door Tick
 ets have a limited availability.Advance booking is required.\nThe even
 t will start at 18.30 with doors opening at 18.15.\n\nFor more informa
 tion visit https://harringayonline.com/events/life-drawing-at-the-muse
 um-3
DTSTART;TZID=Europe/London:20250818T183000
DTEND;TZID=Europe/London:20250818T203000
CATEGORIES:"'art'", "'class'", "'drawing'", "'lifedrawing'"
LOCATION:Estorick Collection of Modern Italian Art
WEBSITE:https://www.estorickcollection.com/events/life-drawing-at-the-
 museum-18-august
URL:https://www.estorickcollection.com/events/life-drawing-at-the-muse
 um-18-august
CONTACT:02077049522
ORGANIZER;CN="Estorick Collection":https://harringayonline.com/profile
 /AmandaWilliams
ATTACH;FMTTYPE="image/jpeg":https://storage.ning.com/topology/rest/1.0
 /file/get/13571359067?profile=original
ATTENDEE;ROLE=REQ-PARTICIPANT;PARTSTAT=ACCEPTED;RSVP=TRUE;CN="Estorick
  Collection":https://harringayonline.com/profile/AmandaWilliams
END:VEVENT
END:VCALENDAR
