BEGIN:VCALENDAR
PRODID:NingEventWidget-v1
VERSION:2.0
METHOD:PUBLISH
BEGIN:VTIMEZONE
TZID:Europe/London
X-LIC-LOCATION:Europe/London
BEGIN:DAYLIGHT
TZOFFSETFROM:+0000
TZOFFSETTO:+0100
TZNAME:BST
DTSTART:19700329T010000
RRULE:FREQ=YEARLY;BYMONTH=3;BYDAY=-1SU
END:DAYLIGHT
BEGIN:STANDARD
TZOFFSETFROM:+0100
TZOFFSETTO:+0000
TZNAME:GMT
DTSTART:19701025T020000
RRULE:FREQ=YEARLY;BYMONTH=10;BYDAY=-1SU
END:STANDARD
END:VTIMEZONE
BEGIN:VEVENT
UID:844301:Event:1610024
DTSTAMP:20260423T024947Z
SUMMARY:Life Drawing at the Museum
DESCRIPTION:Join us for an untutored life drawing session with profess
 ional life model Stuart.\nStuart Nixon (@lifemodelstuart) is an actor,
  comedian & life model from Glasgow.\nWhether a beginner or experience
 d practitioner, join a friendly community of art lovers and nurture yo
 ur creativity in our life drawing sessions.\nWe can provide drawing bo
 ards and a selection of basic drawing materials. You are more than wel
 come to take your kit with you. Please note: only dry materials are al
 lowed in the galleries.\nIf you have any accessibility needs, please c
 ontact education@estorickcollection.com\n\nKindly supported by Cass 
 Art.\n\nStandard\n£15\n\nEstorick Collection Member\n£12\n\nStudents
 \n£12\n\nPay It Forward\n£20\n\nOpen Door\n£5\n\n\n\nPay It Forward
  Ticket: Pay a little extra and help us make our events more inclusiv
 e. The aim of this scheme is to provide tickets at a lower price for p
 eople for whom price may be a barrier to participation.Open Door Ticke
 t: A more affordable ticket for those whom price might be a barrier t
 o participation. Please note that Open Door Tickets have a limited ava
 ilability.Advance booking is required.\nThe event will start at 18.30 
 with doors opening at 18.15.\n\nFor more information visit https://har
 ringayonline.com/events/life-drawing-at-the-museum-2
DTSTART;TZID=Europe/London:20250714T183000
DTEND;TZID=Europe/London:20250714T203000
CATEGORIES:"'art'", "'class'", "'drawing'", "'lifedrawing'"
LOCATION:Estorick Collection of Modern Italian Art
WEBSITE:https://www.estorickcollection.com/events/life-drawing-at-the-
 museum-14-july
URL:https://www.estorickcollection.com/events/life-drawing-at-the-muse
 um-14-july
CONTACT:02077049522
ORGANIZER;CN="Estorick Collection":https://harringayonline.com/profile
 /AmandaWilliams
ATTACH;FMTTYPE="image/jpeg":https://storage.ning.com/topology/rest/1.0
 /file/get/13571359067?profile=original
ATTENDEE;ROLE=REQ-PARTICIPANT;PARTSTAT=ACCEPTED;RSVP=TRUE;CN="Estorick
  Collection":https://harringayonline.com/profile/AmandaWilliams
END:VEVENT
END:VCALENDAR
