BEGIN:VCALENDAR
PRODID:NingEventWidget-v1
VERSION:2.0
METHOD:PUBLISH
BEGIN:VTIMEZONE
TZID:Europe/London
X-LIC-LOCATION:Europe/London
BEGIN:DAYLIGHT
TZOFFSETFROM:+0000
TZOFFSETTO:+0100
TZNAME:BST
DTSTART:19700329T010000
RRULE:FREQ=YEARLY;BYMONTH=3;BYDAY=-1SU
END:DAYLIGHT
BEGIN:STANDARD
TZOFFSETFROM:+0100
TZOFFSETTO:+0000
TZNAME:GMT
DTSTART:19701025T020000
RRULE:FREQ=YEARLY;BYMONTH=10;BYDAY=-1SU
END:STANDARD
END:VTIMEZONE
BEGIN:VEVENT
UID:844301:Event:1631865
DTSTAMP:20260424T220516Z
SUMMARY:Lauderdale House Heritage Weekend 2026
DESCRIPTION:Take a step back in time at our annual Heritage Weekend - 
 the perfect opportunity to discover the fascinating and diverse histor
 y of Lauderdale House, Waterlow Park, Highgate and the surrounding are
 as.\nOn Saturday 28 February, we celebrate Highgate's fascinating hi
 story with our Local Heritage Fair, and special talks under the them
 e of 'Using the Arts to Share the History of Overlooked Local Women.'\
 nTalks include:\nWaterlow Park Geotrail12pm | Free (booking required)\
 nJoin us as we learn how the geology of Waterlow Park relates to its l
 ayout and local development on this informative walk with the London G
 eodiversity Partnership. \nBy Coach to Kenwood: Dido's Story2pm | Fre
 e (booking required)\nJoin award-winning playwright, actress and broad
 caster Non Vaughan-O’Hagan for a journey back in time in a fascinati
 ng talk about Dido Belle and her life in Kenwood.\nThe Lost Girls of H
 ighgate Cemetery3.30pm | Free (booking required)\nIn this free talk, e
 xplore the making of The Lost Girls of Highgate Cemetery, a devised th
 eatre production inspired by a lesser-known story within Highgate Ceme
 tery about the lives of ten girls and women buried together in an unma
 rked grave.\nAnd on Sunday 1 March, we invite children and their fami
 lies to explore the house and discover its secrets at our Heritage Fa
 mily Fun Day!\nHeritage Family Fun Day11am to 4pm | Free\nDrop in for 
 all kinds of fun and free activities! Explore the history of Lauderdal
 e House and our local areas through special arts & crafts, a house tr
 ail and more. \n\nFor more information visit https://harringayonline.
 com/events/lauderdale-house-heritage-weekend-2026
DTSTART;TZID=Europe/London:20260228T100000
DTEND;TZID=Europe/London:20260301T160000
CATEGORIES:"'heritage'", "'history'", "'free'", "'family'", "'communit
 y'"
LOCATION:Lauderdale House, Highgate
WEBSITE:https://www.lauderdalehouse.org.uk/whats-on/heritage-weekend-2
 026
URL:https://www.lauderdalehouse.org.uk/whats-on/heritage-weekend-2026
CONTACT:
ORGANIZER;CN="Lauderdale House":https://harringayonline.com/profile/So
 phieSerrano
ATTACH;FMTTYPE="image/jpeg":https://storage.ning.com/topology/rest/1.0
 /file/get/31079283690?profile=original
ATTENDEE;ROLE=REQ-PARTICIPANT;PARTSTAT=ACCEPTED;RSVP=TRUE;CN="Lauderda
 le House":https://harringayonline.com/profile/SophieSerrano
END:VEVENT
END:VCALENDAR
