BEGIN:VCALENDAR
PRODID:NingEventWidget-v1
VERSION:2.0
METHOD:PUBLISH
BEGIN:VTIMEZONE
TZID:Europe/London
X-LIC-LOCATION:Europe/London
BEGIN:DAYLIGHT
TZOFFSETFROM:+0000
TZOFFSETTO:+0100
TZNAME:BST
DTSTART:19700329T010000
RRULE:FREQ=YEARLY;BYMONTH=3;BYDAY=-1SU
END:DAYLIGHT
BEGIN:STANDARD
TZOFFSETFROM:+0100
TZOFFSETTO:+0000
TZNAME:GMT
DTSTART:19701025T020000
RRULE:FREQ=YEARLY;BYMONTH=10;BYDAY=-1SU
END:STANDARD
END:VTIMEZONE
BEGIN:VEVENT
UID:844301:Event:1628277
DTSTAMP:20260425T202950Z
SUMMARY:Last Unicorn Airways by The Blanket Fort Club
DESCRIPTION:★★★★ “Immersive journey around the world” — 
 Everything Theatre\nTake flight with Last Unicorn Airways! Join two pl
 ayful baggage handlers as they unpack a globe-trotting adventure from 
 a magical final flight, where every suitcase tells a story. Stick arou
 nd after the show to explore an immersive, hands-on sensory installati
 on that brings the journey to life!\n\nFor more information visit http
 s://harringayonline.com/events/last-unicorn-airways-by-the-blanket-for
 t-club
DTSTART;TZID=Europe/London:20260208T110000
DTEND;TZID=Europe/London:20260208T140000
CATEGORIES:theatre, family
LOCATION:Jacksons Lane
WEBSITE:https://www.jacksonslane.org.uk/events/last-unicorn-airways/
URL:https://www.jacksonslane.org.uk/events/last-unicorn-airways/
CONTACT:020 8340 5226
ORGANIZER;CN="Jacksons Lane":https://harringayonline.com/profile/Jacks
 onsLane899
ATTACH;FMTTYPE="image/jpeg":
ATTENDEE;ROLE=REQ-PARTICIPANT;PARTSTAT=ACCEPTED;RSVP=TRUE;CN="Jacksons
  Lane":https://harringayonline.com/profile/JacksonsLane899
END:VEVENT
END:VCALENDAR
