BEGIN:VCALENDAR
PRODID:NingEventWidget-v1
VERSION:2.0
METHOD:PUBLISH
BEGIN:VTIMEZONE
TZID:Europe/London
X-LIC-LOCATION:Europe/London
BEGIN:DAYLIGHT
TZOFFSETFROM:+0000
TZOFFSETTO:+0100
TZNAME:BST
DTSTART:19700329T010000
RRULE:FREQ=YEARLY;BYMONTH=3;BYDAY=-1SU
END:DAYLIGHT
BEGIN:STANDARD
TZOFFSETFROM:+0100
TZOFFSETTO:+0000
TZNAME:GMT
DTSTART:19701025T020000
RRULE:FREQ=YEARLY;BYMONTH=10;BYDAY=-1SU
END:STANDARD
END:VTIMEZONE
BEGIN:VEVENT
UID:844301:Event:1636671
DTSTAMP:20260424T182904Z
SUMMARY:Kate Williams Quartet
DESCRIPTION:Doors open 7pm, music from 8pm.\nLine up: Kate Williams - 
 piano Riley Stone-Lonergan - tenor saxophone Oli Hayhurst - bass Tim G
 iles - drums\nKaramel - 4 Coburg Road, London N22 6UJ. The Karamel veg
 an kitchen will be serving food until 9.30pm. Email karamel8775@gmail
 .com to book a table for groups of 3+.\nDoors open 7pm. Music starts 
 at 8pm.\n\nFor more information visit https://harringayonline.com/even
 ts/kate-williams-quartet-1
DTSTART;TZID=Europe/London:20260402T190000
DTEND;TZID=Europe/London:20260402T223000
CATEGORIES:jazz, live, music, women, local, vegan, food
LOCATION:Karamel - 4 Coburg Road, London N22 6UJ.
WEBSITE:https://www.musicglue.com/karamel
URL:https://www.musicglue.com/karamel
CONTACT:02080900071
ORGANIZER;CN="Collage Arts":https://harringayonline.com/profile/Chocol
 ateFactory
ATTACH;FMTTYPE="image/jpeg":https://storage.ning.com/topology/rest/1.0
 /file/get/31106325287?profile=original
ATTENDEE;ROLE=REQ-PARTICIPANT;PARTSTAT=ACCEPTED;RSVP=TRUE;CN="Collage 
 Arts":https://harringayonline.com/profile/ChocolateFactory
END:VEVENT
END:VCALENDAR
