BEGIN:VCALENDAR
PRODID:NingEventWidget-v1
VERSION:2.0
METHOD:PUBLISH
BEGIN:VTIMEZONE
TZID:Europe/London
X-LIC-LOCATION:Europe/London
BEGIN:DAYLIGHT
TZOFFSETFROM:+0000
TZOFFSETTO:+0100
TZNAME:BST
DTSTART:19700329T010000
RRULE:FREQ=YEARLY;BYMONTH=3;BYDAY=-1SU
END:DAYLIGHT
BEGIN:STANDARD
TZOFFSETFROM:+0100
TZOFFSETTO:+0000
TZNAME:GMT
DTSTART:19701025T020000
RRULE:FREQ=YEARLY;BYMONTH=10;BYDAY=-1SU
END:STANDARD
END:VTIMEZONE
BEGIN:VEVENT
UID:844301:Event:1618356
DTSTAMP:20260423T042555Z
SUMMARY:Join the Big Secret Safari Ride: Saturday 13 September
DESCRIPTION:Explore Haringey's animal murals on our family-friendly Bi
 g Secret Safari ride\nOn the morning of Saturday 13 September, join us
  on a marshalled ride to visit wonderful animal murals dotted around H
 aringey.\nWe start (10:45) and return (13:00) to Lordship Rec to join 
 events at the Tottenham Flower and Produce Festival with lots of sta
 lls to visit, plants to buy and activities to join. We're also hoping 
 to have a Q+A session with Councillor Mike Hakata after the ride – s
 o bring your questions too!\nThe route will travel on quiet local road
 s where we'll spot the varied animals in their Haringey habitats. This
  includes artworks of red pandas, polar bears, and exotic birds by loc
 al artists including James Straffon.\nChildren are particularly welcom
 e! Note, the ride is suitable for accompanied children who can pedal a
 nd control their bikes, as well as younger ones in child seats. \nPri
 zes will be handed out for the quickest shout-out identifying animals 
 correctly.\nRegister here for free  https://haringeycyclists.org/ev
 ents/big-secret-safari-ride-13-sept-2025/\nGetting to the Big Secret S
 afari ride\nOur main marshalled ride will start at the Hub Café in L
 ordship Rec at 10:45. \nThere will be three marshalled \"feeder\" ri
 des that will escort cyclists from local parks to this starting point 
 (details below).\nWe return to Lordship Rec before 1pm to join events 
 at the Tottenham Flower and Produce Festival with lots of stalls to 
 visit, plants to buy and activities to join. We're also hoping to have
  a Q+A session with Councillor Mike Hakata after the ride – bring yo
 ur questions too!\nIf you want to join the ride from other parts of Ha
 ringey, you can meet our marshals at the following locations and time
 s:\n\nPriory Park basketball area (meet 9.45am),\nAlexandra Palace Pa
 rk exit by Newland Rd (meet 10am),\nFinsbury Park cafe (meet 9.45am)
 ,\nChestnuts Park cafe (meet 10am) \nDown Lane Park Pavilion (meet 
 10am)\n\nRead the report and see the footage from our previous Secret 
 Safari ride here.\nBring your friends and family!\n\n\n\n\nFor more in
 formation visit https://harringayonline.com/events/join-the-big-secret
 -safari-ride-saturday-13-september
DTSTART;TZID=Europe/London:20250913T104500
DTEND;TZID=Europe/London:20250913T130000
CATEGORIES:community, bike, ride
LOCATION:Lordship Rec Hub Cafe
WEBSITE:
URL:
CONTACT:
ORGANIZER;CN=Pugface:https://harringayonline.com/profile/RodneyKeg
ATTACH;FMTTYPE="image/jpeg":
ATTENDEE;ROLE=REQ-PARTICIPANT;PARTSTAT=ACCEPTED;RSVP=TRUE;CN=Pugface:h
 ttps://harringayonline.com/profile/RodneyKeg
END:VEVENT
END:VCALENDAR
