BEGIN:VCALENDAR
PRODID:NingEventWidget-v1
VERSION:2.0
METHOD:PUBLISH
BEGIN:VTIMEZONE
TZID:Europe/London
X-LIC-LOCATION:Europe/London
BEGIN:DAYLIGHT
TZOFFSETFROM:+0000
TZOFFSETTO:+0100
TZNAME:BST
DTSTART:19700329T010000
RRULE:FREQ=YEARLY;BYMONTH=3;BYDAY=-1SU
END:DAYLIGHT
BEGIN:STANDARD
TZOFFSETFROM:+0100
TZOFFSETTO:+0000
TZNAME:GMT
DTSTART:19701025T020000
RRULE:FREQ=YEARLY;BYMONTH=10;BYDAY=-1SU
END:STANDARD
END:VTIMEZONE
BEGIN:VEVENT
UID:844301:Event:1634279
DTSTAMP:20260424T044638Z
SUMMARY:Jazz on the Tea Lawn: John Crawford Latin Quintet
DESCRIPTION:Join us on the Tea Lawn for a rich, layered, and deeply ex
 pressive performance of Latin jazz fusion.\nLondon-born pianist John 
 Crawford blends jazz sophistication with the fire of Latin rhythm. Wi
 th English and Spanish roots, he was raised on blues and immersed in s
 alsa, flamenco, and Afro-Cuban traditions — a fusion that defines hi
 s sound. He’s performed at world-renowned festivals like Montreal, N
 orth Sea, and San Sebastián, and iconic venues including Ronnie Scott
 ’s, the Royal Albert Hall, and the 606 Club.\nAn Independent Music A
 ward nominee, John’s albums Ulia River of Time, Times and Tides, a
 nd his latest Room for Dancing have earned critical praise for their
  vibrant energy and heartfelt lyricism. He’s played with legends fro
 m both the Latin and jazz worlds — from Airto Moreira to Norma Winst
 one, Björk to Tony Kofi — and was a founding member of Grupo X and 
 genre-blending project ISQ.\nA passionate educator and rhythm fanatic,
  John’s books on Latin piano (published by Schott and OUP) have beco
 me go-to resources worldwide. Whether on stage or in the studio, his m
 usic is always alive with groove, emotion, and an infectious love of d
 ance.\nProgrammed by Blow the Fuse\n\nPerformers\nJohn Crawford - ke
 ys\nGuillermo Hill - guitar \nDavide Mantovani - bass \nAndres Tic
 ino - percussion \nTristan Banks - drums\n\nTickets\nStandard £15.
 50 Unwaged Concession £12.50Under 35s Concession £8\nPlease note tha
 t all tickets, including tickets purchased on the door, are subject to
  a £1.50 booking fee.\n\n\nFor more information visit https://harring
 ayonline.com/events/jazz-on-the-tea-lawn-john-crawford-latin-quintet
DTSTART;TZID=Europe/London:20260625T200000
DTEND;TZID=Europe/London:20260625T220000
CATEGORIES:"jazz music", "live jazz", "jazz concert", "live music", "j
 azz in the house"
LOCATION:Lauderdale House
WEBSITE:https://www.lauderdalehouse.org.uk/whats-on/john-crawford-lati
 n-quintet
URL:https://www.lauderdalehouse.org.uk/whats-on/john-crawford-latin-qu
 intet
CONTACT:020 8348 8716
ORGANIZER;CN="Lauderdale House":https://harringayonline.com/profile/So
 phieSerrano
ATTACH;FMTTYPE="image/jpeg":https://storage.ning.com/topology/rest/1.0
 /file/get/31094020474?profile=original
ATTENDEE;ROLE=REQ-PARTICIPANT;PARTSTAT=ACCEPTED;RSVP=TRUE;CN="Lauderda
 le House":https://harringayonline.com/profile/SophieSerrano
END:VEVENT
END:VCALENDAR
