BEGIN:VCALENDAR
PRODID:NingEventWidget-v1
VERSION:2.0
METHOD:PUBLISH
BEGIN:VTIMEZONE
TZID:Europe/London
X-LIC-LOCATION:Europe/London
BEGIN:DAYLIGHT
TZOFFSETFROM:+0000
TZOFFSETTO:+0100
TZNAME:BST
DTSTART:19700329T010000
RRULE:FREQ=YEARLY;BYMONTH=3;BYDAY=-1SU
END:DAYLIGHT
BEGIN:STANDARD
TZOFFSETFROM:+0100
TZOFFSETTO:+0000
TZNAME:GMT
DTSTART:19701025T020000
RRULE:FREQ=YEARLY;BYMONTH=10;BYDAY=-1SU
END:STANDARD
END:VTIMEZONE
BEGIN:VEVENT
UID:844301:Event:1634829
DTSTAMP:20260419T200050Z
SUMMARY:Jazz Juice (Live Music) - Free Entry
DESCRIPTION:Soulsa ® Productions presents Jazz Juice with Will Wood &
  Friends\nYou're all cordially invited to our monthly Jazz Juice sessi
 on at The Salisbury Hotel, which will be spearheaded by saxophonist W
 ill Wood.\nFor the first set, Will and his fellow band members will be
  serving up a catalogue of jazz standards reimagined in their own inim
 itable style.\nFor the second set, the stage will be open to all music
 ians who fancy participating in a proper jam session. Bring your own i
 nstrument and join in the fun.\nWhether you're a punter or a performer
 , expect good tunes, great company and gorgeous pints in a genial sett
 ing.\nRelevant links:\nhttps://soulsa.co.uk/jazz-juice https://thesali
 sburyhotelpub.co.uk https://www.instagram.com/glow_tones\n\n\n\n\n\nFo
 r more information visit https://harringayonline.com/events/jazz-juice
 -live-music-free-entry-12
DTSTART;TZID=Europe/London:20260405T190000
DTEND;TZID=Europe/London:20260405T220000
CATEGORIES:music, "live music", jazz, free, "free entry", "north londo
 n", haringey, harringay
LOCATION:The Salisbury
WEBSITE:https://www.google.com/maps/place/The+Salisbury+Hotel+(Harring
 ay)/@51.5822791,-0.1019536,17z
URL:https://www.google.com/maps/place/The+Salisbury+Hotel+(Harringay)/
 @51.5822791,-0.1019536,17z
CONTACT:
ORGANIZER;CN="Gee Kay":https://harringayonline.com/profile/GeeKay
ATTACH;FMTTYPE="image/jpeg":https://storage.ning.com/topology/rest/1.0
 /file/get/31093832457?profile=original
ATTENDEE;ROLE=REQ-PARTICIPANT;PARTSTAT=ACCEPTED;RSVP=TRUE;CN="Gee Kay"
 :https://harringayonline.com/profile/GeeKay
END:VEVENT
END:VCALENDAR
