BEGIN:VCALENDAR
PRODID:NingEventWidget-v1
VERSION:2.0
METHOD:PUBLISH
BEGIN:VTIMEZONE
TZID:Europe/London
X-LIC-LOCATION:Europe/London
BEGIN:DAYLIGHT
TZOFFSETFROM:+0000
TZOFFSETTO:+0100
TZNAME:BST
DTSTART:19700329T010000
RRULE:FREQ=YEARLY;BYMONTH=3;BYDAY=-1SU
END:DAYLIGHT
BEGIN:STANDARD
TZOFFSETFROM:+0100
TZOFFSETTO:+0000
TZNAME:GMT
DTSTART:19701025T020000
RRULE:FREQ=YEARLY;BYMONTH=10;BYDAY=-1SU
END:STANDARD
END:VTIMEZONE
BEGIN:VEVENT
UID:844301:Event:1634484
DTSTAMP:20260424T043629Z
SUMMARY:Jazz in the House: Henry Lowther’s Still Waters
DESCRIPTION:Henry Lowther’s Still Waters brings together five except
 ional voices in British jazz for an evening of original music shaped b
 y decades of musical friendship and collaboration.\nFormed from a clos
 e association spanning more than 40 years between bassist Dave Green
 and trumpeter Henry Lowther, Still Waters is a band built on trust, 
 creativity and deep musical understanding. Though rooted in the classi
 c quintet tradition, their music ranges widely, from gentle, lyrical a
 nd pastoral pieces to dynamic, free-flowing improvisation, with an emp
 hasis on interplay and collective expression.\nThe ensemble features P
 ete Hurt on tenor saxophone, Barry Green on piano, Dave Green on bass,
  Paul Clarvis on drums and Henry Lowther on trumpet, five of the UK’
 s most respected jazz musicians. Together, they create performances de
 fined by adventure and spontaneity, where no two concerts are ever the
  same.\nPraised as “pretty well flawless” in live performance, Hen
 ry Lowther’s Still Waters offers a rare chance to hear one of Britis
 h jazz’s most revered trumpeters alongside an outstanding and deeply
  connected ensemble.\n“Meltingly attractive solos, startling origina
 lity.” Chris Parker, Vortex review.\n \nProgrammed by Blow the Fus
 e\n\nPerformers\nPete Hurt - tenor saxophone Barry Green - piano Dav
 e Green - bass Paul Clarvis - drums Henry Lowther - trumpet\n\nTick
 ets\nStandard £15.50 Unwaged Concession £12.50Under 35s Concession 
 8\nPlease note that all tickets, including tickets purchased on the d
 oor, are subject to a £1.50 booking fee.\n\n\n\n\n\nFor more informat
 ion visit https://harringayonline.com/events/jazz-in-the-house-henry-l
 owther-s-still-waters
DTSTART;TZID=Europe/London:20260514T200000
DTEND;TZID=Europe/London:20260514T220000
CATEGORIES:"jazz music", "live jazz", "jazz concert", "live music", "j
 azz in the house"
LOCATION:Lauderdale House
WEBSITE:https://www.lauderdalehouse.org.uk/whats-on/henry-lowthers-sti
 ll-waters
URL:https://www.lauderdalehouse.org.uk/whats-on/henry-lowthers-still-w
 aters
CONTACT:020 8348 8716
ORGANIZER;CN="Lauderdale House":https://harringayonline.com/profile/So
 phieSerrano
ATTACH;FMTTYPE="image/jpeg":https://storage.ning.com/topology/rest/1.0
 /file/get/31094019088?profile=original
ATTENDEE;ROLE=REQ-PARTICIPANT;PARTSTAT=ACCEPTED;RSVP=TRUE;CN="Lauderda
 le House":https://harringayonline.com/profile/SophieSerrano
END:VEVENT
END:VCALENDAR
