BEGIN:VCALENDAR
PRODID:NingEventWidget-v1
VERSION:2.0
METHOD:PUBLISH
BEGIN:VTIMEZONE
TZID:Europe/London
X-LIC-LOCATION:Europe/London
BEGIN:DAYLIGHT
TZOFFSETFROM:+0000
TZOFFSETTO:+0100
TZNAME:BST
DTSTART:19700329T010000
RRULE:FREQ=YEARLY;BYMONTH=3;BYDAY=-1SU
END:DAYLIGHT
BEGIN:STANDARD
TZOFFSETFROM:+0100
TZOFFSETTO:+0000
TZNAME:GMT
DTSTART:19701025T020000
RRULE:FREQ=YEARLY;BYMONTH=10;BYDAY=-1SU
END:STANDARD
END:VTIMEZONE
BEGIN:VEVENT
UID:844301:Event:1640116
DTSTAMP:20260425T230758Z
SUMMARY:Jazz at Karamel: Emily C Williams Band
DESCRIPTION:Doors open 7pm, music from 8pm.\nEmily C Williams Band - '
 Guest & Strangers'\n\nThe line up:\nAdam Dyer - Piano\nKlara Devlin Tr
 umpet/Flugel Horn\nRuben Vriend - Double bass\nFlavio Livigni - Drums\
 nEmily Williams - Vocals\n'Emily C Williams is an emerging jazz singer
  from South London. For her first album, Guest and Strangers — relea
 sed in March 2026 — she has got together with musicians she knows w
 ell to record a set of songs written by brothers, Chris and Jonathan 
 Elven. Emily’s soulful and mellifluous voice combines beautifully wi
 th these evocative and offbeat songs, which reflect on some of the str
 ange, even paradoxical aspects of modern life and love.'\nKaramel - 4 
 Coburg Road, London N22 6UJ. The Karamel vegan kitchen will be serving
  food until 9.30pm. Email karamel8775@gmail.com to book a table for 
 groups of 3+.\nDoors open 7pm. Music starts at 8pm.\n\nFor more inform
 ation visit https://harringayonline.com/events/jazz-at-karamel-emily-c
 -williams-band
DTSTART;TZID=Europe/London:20260507T190000
DTEND;TZID=Europe/London:20260507T230000
CATEGORIES:jazz, karamel, live
LOCATION:karamel, 4 Coburg Road, Wood Green, London N22 6UJ
WEBSITE:https://www.musicglue.com/karamel/events/2026-04-30-emily-c-wi
 lliams-band-guest-and-strangers-karamel
URL:https://www.musicglue.com/karamel/events/2026-04-30-emily-c-willia
 ms-band-guest-and-strangers-karamel
CONTACT:020 8090 0071
ORGANIZER;CN="Collage Arts":https://harringayonline.com/profile/Chocol
 ateFactory
ATTACH;FMTTYPE="image/jpeg":https://storage.ning.com/topology/rest/1.0
 /file/get/31141855679?profile=original
ATTENDEE;ROLE=REQ-PARTICIPANT;PARTSTAT=ACCEPTED;RSVP=TRUE;CN="Collage 
 Arts":https://harringayonline.com/profile/ChocolateFactory
END:VEVENT
END:VCALENDAR
