BEGIN:VCALENDAR
PRODID:NingEventWidget-v1
VERSION:2.0
METHOD:PUBLISH
BEGIN:VTIMEZONE
TZID:Europe/London
X-LIC-LOCATION:Europe/London
BEGIN:DAYLIGHT
TZOFFSETFROM:+0000
TZOFFSETTO:+0100
TZNAME:BST
DTSTART:19700329T010000
RRULE:FREQ=YEARLY;BYMONTH=3;BYDAY=-1SU
END:DAYLIGHT
BEGIN:STANDARD
TZOFFSETFROM:+0100
TZOFFSETTO:+0000
TZNAME:GMT
DTSTART:19701025T020000
RRULE:FREQ=YEARLY;BYMONTH=10;BYDAY=-1SU
END:STANDARD
END:VTIMEZONE
BEGIN:VEVENT
UID:844301:Event:1636860
DTSTAMP:20260419T213746Z
SUMMARY:Jamie Valentine \"Hibernation\" Book Launch
DESCRIPTION:Join us for a celebration of all things poetry and wonder,
  as we revel in the release of Jamie Valentine’s fresh and exciting 
 new poetry book, Hibernation.\nTickets include a copy of the e-book in
  all its glory and a seat to watch some incredible poets read their wo
 rk and to hear some passages from the book itself!\nIt will be a magic
 al night of togetherness and joy, taking place in one of the cutest ho
 tspots of North London – Jam in a Jar.\nDoors: 6pm, Poetry: 6:30pm\n
 Stick around after for drinks, discussions and a boogie!\noutsavvy.com
 /event/34253/hibernation-book-launch-open-mic\n\nFor more information 
 visit https://harringayonline.com/events/jamie-valentine-hibernation-b
 ook-launch
DTSTART;TZID=Europe/London:20260405T180000
DTEND;TZID=Europe/London:20260405T220000
CATEGORIES:cocktails, poetry
LOCATION:Jam in a Jar
WEBSITE:https://jaminajarbar.co.uk
URL:https://jaminajarbar.co.uk
CONTACT:
ORGANIZER;CN="Jam in a Jar":https://harringayonline.com/profile/Jamina
 Jar
ATTACH;FMTTYPE="image/jpeg":https://storage.ning.com/topology/rest/1.0
 /file/get/31111014481?profile=original
ATTENDEE;ROLE=REQ-PARTICIPANT;PARTSTAT=ACCEPTED;RSVP=TRUE;CN="Jam in a
  Jar":https://harringayonline.com/profile/JaminaJar
END:VEVENT
END:VCALENDAR
