BEGIN:VCALENDAR
PRODID:NingEventWidget-v1
VERSION:2.0
METHOD:PUBLISH
BEGIN:VTIMEZONE
TZID:Europe/London
X-LIC-LOCATION:Europe/London
BEGIN:DAYLIGHT
TZOFFSETFROM:+0000
TZOFFSETTO:+0100
TZNAME:BST
DTSTART:19700329T010000
RRULE:FREQ=YEARLY;BYMONTH=3;BYDAY=-1SU
END:DAYLIGHT
BEGIN:STANDARD
TZOFFSETFROM:+0100
TZOFFSETTO:+0000
TZNAME:GMT
DTSTART:19701025T020000
RRULE:FREQ=YEARLY;BYMONTH=10;BYDAY=-1SU
END:STANDARD
END:VTIMEZONE
BEGIN:VEVENT
UID:844301:Event:1628042
DTSTAMP:20260423T125038Z
SUMMARY:James Seabright Presents Biff to the Future
DESCRIPTION:★★★★★\n“A very original and funny show”\nEdi
 nburgh Reviews\nThe iconic villain of “Back To The Future” takes c
 entre stage in this comedic reimagination of Marty’s time-traveling 
 escapades, turning the celebrated cinematic trilogy on its head from t
 he perspective of Biff, the bully audiences love to hate.\nThis new, h
 eartfelt and unauthorised parody explores the highs and lows of a life
  chasing power, fame and fortune, reliving Biff’s encounters with Ma
 rty and Doc across the centuries.\nThis Edinburgh Fringe Theatre Award
  2025 winner is perfect for superfans and newcomers alike!\n\nFor more
  information visit https://harringayonline.com/events/james-seabright-
 presents-biff-to-the-future
DTSTART;TZID=Europe/London:20260211T193000
DTEND;TZID=Europe/London:20260211T203000
CATEGORIES:theatre
LOCATION:Jacksons Lane
WEBSITE:https://www.jacksonslane.org.uk/events/biff-to-the-future/
URL:https://www.jacksonslane.org.uk/events/biff-to-the-future/
CONTACT:020 8340 5226
ORGANIZER;CN="Jacksons Lane":https://harringayonline.com/profile/Jacks
 onsLane899
ATTACH;FMTTYPE="image/jpeg":https://storage.ning.com/topology/rest/1.0
 /file/get/31044937691?profile=original
ATTENDEE;ROLE=REQ-PARTICIPANT;PARTSTAT=ACCEPTED;RSVP=TRUE;CN="Jacksons
  Lane":https://harringayonline.com/profile/JacksonsLane899
END:VEVENT
END:VCALENDAR
