BEGIN:VCALENDAR
PRODID:NingEventWidget-v1
VERSION:2.0
METHOD:PUBLISH
BEGIN:VTIMEZONE
TZID:Europe/London
X-LIC-LOCATION:Europe/London
BEGIN:DAYLIGHT
TZOFFSETFROM:+0000
TZOFFSETTO:+0100
TZNAME:BST
DTSTART:19700329T010000
RRULE:FREQ=YEARLY;BYMONTH=3;BYDAY=-1SU
END:DAYLIGHT
BEGIN:STANDARD
TZOFFSETFROM:+0100
TZOFFSETTO:+0000
TZNAME:GMT
DTSTART:19701025T020000
RRULE:FREQ=YEARLY;BYMONTH=10;BYDAY=-1SU
END:STANDARD
END:VTIMEZONE
BEGIN:VEVENT
UID:844301:Event:1594921
DTSTAMP:20260423T111530Z
SUMMARY:JAMES LISNEY PLAYS CHOPIN @ THE RED HEDGEHOG
DESCRIPTION:JAMES LISNEY PERFORMS (some of the best music ever written
 ...!)CHOPIN BALLADESIMPROMPTUSNOCTURNESThe Red Hedgehog is launching i
 ts first-everfundraising appeal to raise £50k of funds to enable us t
 o buy the beautiful Bechstein grand piano which has been on loan to us
  for the last few years by PIano Restorations in Buckinghashire.   
 A further aim is to install central heating and carry out essential bu
 ilding repairs.\nThe acclaimed pianist JAMES LISNEY is generously supp
 orting our fundraising project with this evening of scintillating Chop
 in masterpieces.Please come along.  We would very much welcome your s
 upport.If you can't afford the main ticket price but would love to hea
 r this wonderful music in a friendly, intimate, bohemian setting, just
  please choose the concessionary priced ticket - and come along!  Bet
 ter you're here than not...\n\nFor more information visit https://harr
 ingayonline.com/events/james-lisney-plays-chopin-the-red-hedgehog
DTSTART;TZID=Europe/London:20241207T193000
DTEND;TZID=Europe/London:20241207T210000
CATEGORIES:highgate, "classical concert", "piano recital"
LOCATION:The Red Hedgehog
WEBSITE:http://www.theredhedgehog.co.uk
URL:http://www.theredhedgehog.co.uk
CONTACT:0208 348 5050 | 07892 120050
ORGANIZER;CN="The Red Hedgehog":https://harringayonline.com/profile/Th
 eRedHedgehog715
ATTACH;FMTTYPE="image/jpeg":https://storage.ning.com/topology/rest/1.0
 /file/get/13237599073?profile=original
ATTENDEE;ROLE=REQ-PARTICIPANT;PARTSTAT=ACCEPTED;RSVP=TRUE;CN="The Red 
 Hedgehog":https://harringayonline.com/profile/TheRedHedgehog715
END:VEVENT
END:VCALENDAR
