BEGIN:VCALENDAR
PRODID:NingEventWidget-v1
VERSION:2.0
METHOD:PUBLISH
BEGIN:VTIMEZONE
TZID:Europe/London
X-LIC-LOCATION:Europe/London
BEGIN:DAYLIGHT
TZOFFSETFROM:+0000
TZOFFSETTO:+0100
TZNAME:BST
DTSTART:19700329T010000
RRULE:FREQ=YEARLY;BYMONTH=3;BYDAY=-1SU
END:DAYLIGHT
BEGIN:STANDARD
TZOFFSETFROM:+0100
TZOFFSETTO:+0000
TZNAME:GMT
DTSTART:19701025T020000
RRULE:FREQ=YEARLY;BYMONTH=10;BYDAY=-1SU
END:STANDARD
END:VTIMEZONE
BEGIN:VEVENT
UID:844301:Event:1524806
DTSTAMP:20260422T102700Z
SUMMARY:JAMES CONNOLLY SOCIALIST NATIONALIST &amp; INTERNATIONALIST BO
 OK LAUNCH
DESCRIPTION:A launch of Liam McNulty's book on important events in the
  life of James Connolly including the first world war, and the Easter 
 Rising.\n \nThis book has described by  John McDonnell MP (Shadow Ch
 ancellor 2015-2019) as: \" takes Connolly off the statue’s plinth 
 and depicts the dynamic Marxist revolutionary class fighter that he wa
 s and as importantly explains the location of his politics at the hear
 t of the ebb and flow of the global socialist debates and movements of
  his time.” \n \nGet the book for the special discounted price of 
 £20 at the event.\n\n\n\nFor more information visit https://harringay
 online.com/events/james-connolly-socialist-nationalist-amp-internation
 alist-book
DTSTART;TZID=Europe/London:20230120T183000
DTEND;TZID=Europe/London:20230120T200000
CATEGORIES:book, launch, socialism, irish, history
LOCATION:All Good Bookshop
WEBSITE:https://allgoodbookshop.co.uk/special-events
URL:https://allgoodbookshop.co.uk/special-events
CONTACT:02083410783
ORGANIZER;CN="The All Good Bookshop":https://harringayonline.com/profi
 le/TheAllGoodBookshop
ATTACH;FMTTYPE="image/jpeg":https://storage.ning.com/topology/rest/1.0
 /file/get/10945596057?profile=original
ATTENDEE;ROLE=REQ-PARTICIPANT;PARTSTAT=ACCEPTED;RSVP=TRUE;CN="The All 
 Good Bookshop":https://harringayonline.com/profile/TheAllGoodBookshop
END:VEVENT
END:VCALENDAR
