BEGIN:VCALENDAR
PRODID:NingEventWidget-v1
VERSION:2.0
METHOD:PUBLISH
BEGIN:VTIMEZONE
TZID:Europe/London
X-LIC-LOCATION:Europe/London
BEGIN:DAYLIGHT
TZOFFSETFROM:+0000
TZOFFSETTO:+0100
TZNAME:BST
DTSTART:19700329T010000
RRULE:FREQ=YEARLY;BYMONTH=3;BYDAY=-1SU
END:DAYLIGHT
BEGIN:STANDARD
TZOFFSETFROM:+0100
TZOFFSETTO:+0000
TZNAME:GMT
DTSTART:19701025T020000
RRULE:FREQ=YEARLY;BYMONTH=10;BYDAY=-1SU
END:STANDARD
END:VTIMEZONE
BEGIN:VEVENT
UID:844301:Event:1505270
DTSTAMP:20260423T192304Z
SUMMARY:Invertebrate Survey - The Paddock
DESCRIPTION:Learn all about invertebrate survey skills at our weekly s
 urvey at The Paddock. All levels and families are welcome.\n\nAbout th
 is event\nWe invite you to join us at the Paddock for our weekly surve
 y in 2022! Whether you are an expert or complete beginner this will be
  a chance to get outdoors and explore the wildlife on your doorstep.\n
 \n\nWhat to expect:\n- A short talk on a species or wildlife-related t
 opic each week.\n- A guided pond dip and sampling.\n-The data collecte
 d will help us develop the Paddock into a Local Nature Reserve.\n- By 
 booking onto multiple sessions you’ll gain a deeper understanding of
  seasonal cycles, and improve your I.D. skills.\n\nPre-booking is esse
 ntial, book now to confirm a place.\nPlease be aware Eventbrite bookin
 g closes one day before each surveying event at 5pm.\nIf you have to c
 ancel your place for any reason, please get in touch via thepaddock@tc
 v.org.uk or by the contact numbers below to let us know.\n\n\nMore inf
 o:\nYou will be issued with a field recording sheet, species guide she
 ets, a clipboard and a pencil.\nIf you own further ID guides/books, yo
 u are welcome to bring them along.\nIndividual surveys will run outdoo
 rs for about an hour, please be sure to check the weather/temperature 
 and dress accordingly.\n\n\nCOVID-Safe Measures:\nWhilst social distan
 cing and COVID-safe measures are no longer legally required, you are w
 elcome to wear a mask if you would like to. Please consider others' wi
 shes who may still want to social distance, and always wash hands befo
 re eating/drinking on TCV projects.\n\n\nUnder 18s:\nAll ages can join
  in the survey, the route is a little muddy but buggies are welcome!\n
 If you want to volunteer and are 16-17 years old please ensure you get
  in touch with us at thepaddock@tcv.org.uk, as you will need a complet
 ed parent/ guardian consent form to join in. For everyone aged 15 and 
 under they will also need a parent/guardian with them to attend.\n\n\n
 Meeting point:\nWe will meet at the Paddock main entrance next to the 
 2x green office buildings on Ferry Lane, N17 9NG.\n\n\nContact Info:\n
 The session will be run by Anna and Cassandra.\nTelephone: Anna (07483
  045 734) Cassandra (07483045713).\nEmail: thepaddock@tcv.org.uk\n\n\n
 About TCV:\nThe Conservation Volunteers (TCV) are a national charity. 
 Our vision is to create healthier, happier places for everyone. Our mi
 ssion is to connect people and green spaces to deliver lasting outcome
 s for both.\n\n\n\n\n\nFor more information visit https://harringayonl
 ine.com/events/invertebrate-survey-the-paddock
DTSTART;TZID=Europe/London:20220902T111500
DTEND;TZID=Europe/London:20220902T121500
CATEGORIES:united, kingdom, eventsgreater, london, eventsthings, to, d
 o, in, londonlondon, classeslondon, charities, "&amp", causes, "classe
 s#nature#wildlife#volunteering#tottenham#surveying"
LOCATION:The Paddock Community Nature Park
WEBSITE:https://www.tcv.org.uk/london/haringey/thepaddock/
URL:https://www.tcv.org.uk/london/haringey/thepaddock/
CONTACT:07483 045 734
ORGANIZER;CN="TCV - The Paddock":https://harringayonline.com/profile/T
 hePaddock
ATTACH;FMTTYPE="image/jpeg":https://storage.ning.com/topology/rest/1.0
 /file/get/10800192472?profile=original
ATTENDEE;ROLE=REQ-PARTICIPANT;PARTSTAT=ACCEPTED;RSVP=TRUE;CN="TCV - Th
 e Paddock":https://harringayonline.com/profile/ThePaddock
END:VEVENT
END:VCALENDAR
